BEGIN:VCALENDAR
VERSION:2.0
PRODID:-//ChamberMaster//Event Calendar 2.0//EN
METHOD:PUBLISH
X-PUBLISHED-TTL:P3D
REFRESH-INTERVAL:P3D
CALSCALE:GREGORIAN
BEGIN:VEVENT
DTSTART:20170303T153000Z
DTEND:20170303T173000Z
X-MICROSOFT-CDO-ALLDAYEVENT:FALSE
SUMMARY:Government Affairs Committee Meeting
DESCRIPTION:Government Affairs Committee Meeting
X-ALT-DESC;FMTTYPE=text/html:Government Affairs Committee Meeting
LOCATION:Petaluma Area Chamber of Commerce Conference Room\, 6 Petaluma Blvd. No.\, Suite B11\, Petaluma
UID:e.1308.7928
SEQUENCE:3
DTSTAMP:20260420T102949Z
URL:http://business.petalumachamber.us/events/details/government-affairs-committee-meeting-03-03-2017-7928
END:VEVENT

END:VCALENDAR
