BEGIN:VCALENDAR
VERSION:2.0
PRODID:-//ChamberMaster//Event Calendar 2.0//EN
METHOD:PUBLISH
X-PUBLISHED-TTL:P3D
REFRESH-INTERVAL:P3D
CALSCALE:GREGORIAN
BEGIN:VEVENT
DTSTART:20231223T013000Z
DTEND:20231223T024500Z
X-MICROSOFT-CDO-ALLDAYEVENT:FALSE
SUMMARY:2nd Annual Petaluma Holiday Lighted Bike Ride
DESCRIPTION:Decorate your bike and join your friends for the 2nd Annual Petaluma Holiday Lighted Bike Ride! An all ages Family-friendly? event. Ride starts and finishes at Aqus Cafe. Route TBD. Length 60-75 minutes. Bring your bike lights\, helmets\, and bells - let's spread some winter cheer!
X-ALT-DESC;FMTTYPE=text/html:Decorate your bike and join your friends for the 2nd Annual Petaluma Holiday Lighted Bike Ride! An all ages Family-friendly? event. Ride starts and finishes at Aqus Cafe. Route TBD. Length 60-75 minutes. Bring your bike lights\, helmets\, and bells - let&#39\;s spread some winter cheer!
LOCATION:Aqus Cafe\, 189 H Street\, Petaluma\, CA 94952
UID:e.1308.16860
SEQUENCE:3
DTSTAMP:20260420T094021Z
URL:https://business.petalumachamber.us/events/details/2nd-annual-petaluma-holiday-lighted-bike-ride-16860
END:VEVENT

END:VCALENDAR
