BEGIN:VCALENDAR
VERSION:2.0
PRODID:-//ChamberMaster//Event Calendar 2.0//EN
METHOD:PUBLISH
X-PUBLISHED-TTL:P3D
REFRESH-INTERVAL:P3D
CALSCALE:GREGORIAN
BEGIN:VEVENT
DTSTART:20221217T010000Z
DTEND:20221217T030000Z
X-MICROSOFT-CDO-ALLDAYEVENT:FALSE
SUMMARY:A Chanticleer Christmas
DESCRIPTION:Experience one of Americas most beloved holiday traditions with A Chanticleer Christmas. GRAMMY Award-winning vocal ensemble Chanticleer presents a selection of longtime audience favorites\, including choral music from the Renaissance to joyful spirituals and traditional carols\, to fill you with wonder and merriment this festive season. A Chanticleer Christmas has provided transcendent moments of peace and joy to sold out Bay Area audiences for more than 40 years. The tranquility introduced by a candlelit procession of Gregorian Chant and the celebration of the nativity through timeless music from all centuries\, is the hallmark of A Chanticleer Christmas. Describing the Bay Area's array of holiday musical offerings\, the San Jose Mercury News praised A Chanticleer Christmas as "one of the most consistently rewarding" and "sublimely beautiful" while the San Francisco Chronicle called it "a burst of exuberant and soulful yuletide fare ranging across more than a dozen centuries." Presented by Chanticleer
X-ALT-DESC;FMTTYPE=text/html:Experience one of Americas most beloved holiday traditions with A Chanticleer Christmas. GRAMMY Award-winning vocal ensemble Chanticleer presents a selection of longtime audience favorites\, including choral music from the Renaissance to joyful spirituals and traditional carols\, to fill you with wonder and merriment this festive season. A Chanticleer Christmas has provided transcendent moments of peace and joy to sold out Bay Area audiences for more than 40 years. The tranquility introduced by a candlelit procession of Gregorian Chant and the celebration of the nativity through timeless music from all centuries\, is the hallmark of A Chanticleer Christmas. Describing the Bay Area&#39\;s array of holiday musical offerings\, the San Jose Mercury News praised A Chanticleer Christmas as &quot\;one of the most consistently rewarding&quot\; and &quot\;sublimely beautiful&quot\; while the San Francisco Chronicle called it &quot\;a burst of exuberant and soulful yuletide fare ranging across more than a dozen centuries.&quot\; Presented by Chanticleer
LOCATION:St. Vincent Church\, 35 Liberty Street\, Petaluma\, CA 94952
UID:e.1308.16592
SEQUENCE:3
DTSTAMP:20260421T042638Z
URL:https://business.petalumachamber.us/events/details/a-chanticleer-christmas-12-16-2022-16592
END:VEVENT

END:VCALENDAR
