BEGIN:VCALENDAR
VERSION:2.0
PRODID:-//ChamberMaster//Event Calendar 2.0//EN
METHOD:PUBLISH
X-PUBLISHED-TTL:P3D
REFRESH-INTERVAL:P3D
CALSCALE:GREGORIAN
BEGIN:VEVENT
DTSTART:20230826T020000Z
DTEND:20230826T030000Z
X-MICROSOFT-CDO-ALLDAYEVENT:FALSE
SUMMARY:A Midsummer Night's Dream in the Park
DESCRIPTION:Join North Bay Theatrics for FREE theatre in the park as we present our community production of a Midsummer Night's Dream! Bottom calls together his ungainly crew of actors to produce a play for the visiting King Oberon and Queen Titania. The sprite Puck turns Bottom into a donkey and then\, using a magic love potion\, makes Titania fall in love with the creature\, setting up a string of delightful misadventures.
X-ALT-DESC;FMTTYPE=text/html:Join North Bay Theatrics for FREE theatre in the park as we present our community production of a Midsummer Night&#39\;s Dream! Bottom calls together his ungainly crew of actors to produce a play for the visiting King Oberon and Queen Titania. The sprite Puck turns Bottom into a donkey and then\, using a magic love potion\, makes Titania fall in love with the creature\, setting up a string of delightful misadventures.
LOCATION:La Plaza Park\, 15 W Sierra Ave\, Cotati\, CA 94931
UID:e.1308.16640
SEQUENCE:3
DTSTAMP:20260420T151701Z
URL:https://business.petalumachamber.us/events/details/a-midsummer-night-s-dream-in-the-park-16640
END:VEVENT

END:VCALENDAR
