BEGIN:VCALENDAR
VERSION:2.0
PRODID:-//ChamberMaster//Event Calendar 2.0//EN
METHOD:PUBLISH
X-PUBLISHED-TTL:P3D
REFRESH-INTERVAL:P3D
CALSCALE:GREGORIAN
BEGIN:VEVENT
DTSTART:20280606T230000Z
DTEND:20280607T001500Z
X-MICROSOFT-CDO-ALLDAYEVENT:FALSE
SUMMARY:Ambassador Committee Meeting
DESCRIPTION:Ambassador Committee Meeting
X-ALT-DESC;FMTTYPE=text/html:Ambassador Committee Meeting&nbsp\;&nbsp\;&nbsp\;&nbsp\;
LOCATION:1310 Redwood Way\, Suite 200 Petaluma
UID:e.1308.17625
SEQUENCE:3
DTSTAMP:20260420T220212Z
URL:https://business.petalumachamber.us/events/details/ambassador-committee-meeting-06-06-2028-17625
END:VEVENT

END:VCALENDAR
