BEGIN:VCALENDAR
VERSION:2.0
PRODID:-//ChamberMaster//Event Calendar 2.0//EN
METHOD:PUBLISH
X-PUBLISHED-TTL:P3D
REFRESH-INTERVAL:P3D
CALSCALE:GREGORIAN
BEGIN:VEVENT
DTSTART:20230909T000000Z
DTEND:20230918T050000Z
X-MICROSOFT-CDO-ALLDAYEVENT:FALSE
SUMMARY:An Enchanted Evening
DESCRIPTION:A captivating evening of soaring vocals and rapturous rhythms that will take your breath away! Join us for our annual tribute to the best of Broadway and more\, with sensational music and dance\, performed underneath the magnificent Wine Country stars and sky. Visit https://transcendencetheatre.org/whats-on/an-enchanted-evening/ to learn more and buy your tickets today!
X-ALT-DESC;FMTTYPE=text/html:A captivating evening of soaring vocals and rapturous rhythms that will take your breath away! Join us for our annual tribute to the best of Broadway and more\, with sensational music and dance\, performed underneath the magnificent Wine Country stars and sky. Visit https://transcendencetheatre.org/whats-on/an-enchanted-evening/ to learn more and buy your tickets today!
LOCATION:Jack London State Historic Park\, 2400 London Ranch Rd\, Glen Ellen\, CA 95442
UID:e.1308.16600
SEQUENCE:3
DTSTAMP:20260420T135431Z
URL:https://business.petalumachamber.us/events/details/an-enchanted-evening-16600
END:VEVENT

END:VCALENDAR
