BEGIN:VCALENDAR
VERSION:2.0
PRODID:-//ChamberMaster//Event Calendar 2.0//EN
METHOD:PUBLISH
X-PUBLISHED-TTL:P3D
REFRESH-INTERVAL:P3D
CALSCALE:GREGORIAN
BEGIN:VEVENT
DTSTART:20230621T233000Z
DTEND:20230622T013000Z
X-MICROSOFT-CDO-ALLDAYEVENT:FALSE
SUMMARY:Annual Board Installation
DESCRIPTION:Please join us to the Petaluma Area Chamber of Commerce Annual Installation for 2023-2024 Board and Officers\n\n\n\nHosted wine\, beer and appetizers
X-ALT-DESC;FMTTYPE=text/html:Please join us to the Petaluma Area Chamber of Commerce Annual Installation for 2023-2024 Board and Officers<br />\n<br />\nHosted wine\, beer and appetizers<br />\n&nbsp\;
LOCATION:Being held at our President Circle member\, Top Speed Data 1310 Redwood Way\, Suite 200 Petaluma
UID:e.1308.16633
SEQUENCE:3
DTSTAMP:20260420T182011Z
URL:https://business.petalumachamber.us/events/details/annual-board-installation-16633
END:VEVENT

END:VCALENDAR
