BEGIN:VCALENDAR
VERSION:2.0
PRODID:-//ChamberMaster//Event Calendar 2.0//EN
METHOD:PUBLISH
X-PUBLISHED-TTL:P3D
REFRESH-INTERVAL:P3D
CALSCALE:GREGORIAN
BEGIN:VEVENT
DTSTART:20220917T160000Z
DTEND:20220917T200000Z
X-MICROSOFT-CDO-ALLDAYEVENT:FALSE
SUMMARY:Annual Fall Cleanup of the Petaluma River
DESCRIPTION:Join Friends for our annual Fall Petaluma River Cleanup where you'll join with thousands of people across the state participating in California Coastal Cleanup Day. Be a part of the solution   help stop pollution in our inland waterways! What to bring/expect: Please come dressed in clothes that can get dirty and wear sturdy\, close-toed shoes. We will supply volunteers with gloves\, trash pickers\, buckets\, bags and other materials. Bring your own water bottle! We will provide snacks and coffee in the morning. And we invite all volunteers to join us in the afternoon for a BBQ featuring live music and a raffle. Volunteers will be assigned to one of 15 creek locations for the cleanup. Before heading to your assignment\, we will gather at Steamer Landing Park for supplies\, instructions and safety information\, and to check in with your Site Captain. If you have a location you would like to work at\, please indicate that at registration. Contact Stephanie@friendsofthepetalumariver.org with questions.
X-ALT-DESC;FMTTYPE=text/html:Join Friends for our annual Fall Petaluma River Cleanup where you&rsquo\;ll join with thousands of people across the state participating in California Coastal Cleanup Day. Be a part of the solution &ndash\; help stop pollution in our inland waterways! What to bring/expect: Please come dressed in clothes that can get dirty and wear sturdy\, close-toed shoes. We will supply volunteers with gloves\, trash pickers\, buckets\, bags and other materials. Bring your own water bottle! We will provide snacks and coffee in the morning. And we invite all volunteers to join us in the afternoon for a BBQ featuring live music and a raffle. Volunteers will be assigned to one of 15 creek locations for the cleanup. Before heading to your assignment\, we will gather at Steamer Landing Park for supplies\, instructions and safety information\, and to check in with your Site Captain. If you have a location you would like to work at\, please indicate that at registration. Contact Stephanie@friendsofthepetalumariver.org with questions.
LOCATION:Steamer Landing Park\, Petaluma\, CA
UID:e.1308.16563
SEQUENCE:3
DTSTAMP:20260421T073240Z
URL:https://business.petalumachamber.us/events/details/annual-fall-cleanup-of-the-petaluma-river-16563
END:VEVENT

END:VCALENDAR
