BEGIN:VCALENDAR
VERSION:2.0
PRODID:-//ChamberMaster//Event Calendar 2.0//EN
METHOD:PUBLISH
X-PUBLISHED-TTL:P3D
REFRESH-INTERVAL:P3D
CALSCALE:GREGORIAN
BEGIN:VEVENT
DTSTART;VALUE=DATE:20230620
DTEND;VALUE=DATE:20230621
TRANSP:TRANSPARENT
X-MICROSOFT-CDO-ALLDAYEVENT:TRUE
SUMMARY:ARTIST RECEPTION
DESCRIPTION:Join us at Keller Street CoWork \, 140 Keller St. Tuesday\, June 20th from 5pm-7pm to celebrate the new mural by Jonny Hirschmugl!\n\nCome enjoy beverages\, small bites and live music by @cleaglel and art by @theartofjonny!
X-ALT-DESC;FMTTYPE=text/html:Join us at Keller Street CoWork \, 140 Keller St. Tuesday\, June 20th from 5pm-7pm to celebrate the new mural by Jonny Hirschmugl!<br />\nCome enjoy beverages\, small bites and live music by @cleaglel and art by @theartofjonny!<br />\n<br />\n&nbsp\;
LOCATION:Keller Street CoWork\, 140 Keller Street Petaluma
UID:e.1308.16634
SEQUENCE:3
DTSTAMP:20260420T183217Z
URL:https://business.petalumachamber.us/events/details/artist-reception-16634
END:VEVENT

END:VCALENDAR
