BEGIN:VCALENDAR
VERSION:2.0
PRODID:-//ChamberMaster//Event Calendar 2.0//EN
METHOD:PUBLISH
X-PUBLISHED-TTL:P3D
REFRESH-INTERVAL:P3D
CALSCALE:GREGORIAN
BEGIN:VEVENT
DTSTART:20220604T170000Z
DTEND:20220613T000000Z
X-MICROSOFT-CDO-ALLDAYEVENT:FALSE
SUMMARY:Arts 2022 Art at the Source Open Studios June 4-5 & 11-12
DESCRIPTION:Tour the Art at the Source Open Studios in person on June 4-5 and 11-12 between 10am and 5pm. Over 120 artists will open their studios to the public for this signature Sonoma County art experience. Art at the Source represents an opportunity for visitors to see favorite artists in their studios all over Sonoma County. This self-guided tour allows visitors to curate their own art tour with the free catalog and follow the bright yellow signs to the artists' studios. Visitors can tour artist studios to view a wide range of artwork\, including painting\, collage\, drawing\, printmaking\, glass art\, fiber arts\, sculpture\, jewelry\, photography and assemblage. Experience the Preview Exhibit at the Sebastopol Center for the Arts Gallery\, May 22 - June 12 in person from Thursday - Sunday between 10am-5pm.
X-ALT-DESC;FMTTYPE=text/html:Tour the Art at the Source Open Studios in person on June 4-5 and 11-12 between 10am and 5pm. Over 120 artists will open their studios to the public for this signature Sonoma County art experience. Art at the Source represents an opportunity for visitors to see favorite artists in their studios all over Sonoma County. This self-guided tour allows visitors to curate their own art tour with the free catalog and follow the bright yellow signs to the artists&rsquo\; studios. Visitors can tour artist studios to view a wide range of artwork\, including painting\, collage\, drawing\, printmaking\, glass art\, fiber arts\, sculpture\, jewelry\, photography and assemblage. Experience the Preview Exhibit at the Sebastopol Center for the Arts Gallery\, May 22 - June 12 in person from Thursday - Sunday between 10am-5pm.
LOCATION:Sonoma County
UID:e.1308.16386
SEQUENCE:3
DTSTAMP:20260421T112805Z
URL:https://business.petalumachamber.us/events/details/arts-2022-art-at-the-source-open-studios-june-4-5-11-12-16386
END:VEVENT

END:VCALENDAR
