BEGIN:VCALENDAR
VERSION:2.0
PRODID:-//ChamberMaster//Event Calendar 2.0//EN
METHOD:PUBLISH
X-PUBLISHED-TTL:P3D
REFRESH-INTERVAL:P3D
CALSCALE:GREGORIAN
BEGIN:VEVENT
DTSTART:20221216T010000Z
DTEND:20221216T040000Z
X-MICROSOFT-CDO-ALLDAYEVENT:FALSE
SUMMARY:Arts Alive
DESCRIPTION:Arts Alive's mission is to connect\, promote\, and celebrate Petaluma's vibrant arts community. It is a city-wide eclectic art experience occurring monthly on the third Thursday from 5pm-8pm. The public will experience live music\, dance\, theater\, improv\, storytelling\, art demonstrations\, poetry\, book launches\, photography\, dance parties\, multimedia exhibits\, film\, and more. Arts Alive takes place at "host" locations throughout Petaluma and are listed on the event website. Attendance is free. Some venues may suggest reservations. Visit PetalumaDowntown.com for more information!
X-ALT-DESC;FMTTYPE=text/html:Arts Alive&rsquo\;s mission is to connect\, promote\, and celebrate Petaluma&rsquo\;s vibrant arts community. It is a city-wide eclectic art experience occurring monthly on the third Thursday from 5pm-8pm. The public will experience live music\, dance\, theater\, improv\, storytelling\, art demonstrations\, poetry\, book launches\, photography\, dance parties\, multimedia exhibits\, film\, and more. Arts Alive takes place at &ldquo\;host&rdquo\; locations throughout Petaluma and are listed on the event website. Attendance is free. Some venues may suggest reservations. Visit PetalumaDowntown.com for more information!
LOCATION:Downtown Petaluma
UID:e.1308.16593
SEQUENCE:3
DTSTAMP:20260421T031116Z
URL:https://business.petalumachamber.us/events/details/arts-alive-16593
END:VEVENT

END:VCALENDAR
