BEGIN:VCALENDAR
VERSION:2.0
PRODID:-//ChamberMaster//Event Calendar 2.0//EN
METHOD:PUBLISH
X-PUBLISHED-TTL:P3D
REFRESH-INTERVAL:P3D
CALSCALE:GREGORIAN
BEGIN:VEVENT
DTSTART:20230922T000000Z
DTEND:20230922T030000Z
X-MICROSOFT-CDO-ALLDAYEVENT:FALSE
SUMMARY:Arts Alive Petaluma Sound Bath
DESCRIPTION:Have you ever wanted to try a "Sound Bath"?\n\nImagine being immersed in beautiful sounds that are healing to you body\, mind and soul...\n\nA Sound Bath can be unforgettable experience for those who seek deep relaxation\, rejuvenation and an acceleration of their inward journey.\n\nKeller Street Cowork \n\nLouise Bortolotti\n\nFounder of Centric Healing Arts
X-ALT-DESC;FMTTYPE=text/html:<div style="text-align: center\;">Have you ever wanted to try a &quot\;Sound Bath&quot\;?<br />\nImagine being immersed in beautiful sounds that are healing to you body\, mind and soul...<br />\nA Sound Bath can be unforgettable experience for those who seek deep relaxation\, rejuvenation and an acceleration of their inward journey.<br />\nKeller Street Cowork&nbsp\;<br />\nLouise Bortolotti<br />\nFounder of Centric Healing Arts</div>\n
LOCATION:Keller Street CoWork
UID:e.1308.16842
SEQUENCE:3
DTSTAMP:20260420T151851Z
URL:https://business.petalumachamber.us/events/details/arts-alive-petaluma-sound-bath-16842
END:VEVENT

END:VCALENDAR
