BEGIN:VCALENDAR
VERSION:2.0
PRODID:-//ChamberMaster//Event Calendar 2.0//EN
METHOD:PUBLISH
X-PUBLISHED-TTL:P3D
REFRESH-INTERVAL:P3D
CALSCALE:GREGORIAN
BEGIN:VEVENT
DTSTART:20260211T193000Z
DTEND:20260211T213000Z
X-MICROSOFT-CDO-ALLDAYEVENT:FALSE
SUMMARY:At the Table with David Rabbit
DESCRIPTION:Join us for an engaging luncheon focused on what's happening in our county\, with exciting updates on current initiatives\, community priorities and opportunities ahead.\n\n\n\nLuncheon Sponsor:  Katherine Wells\, Financial Adviser Edward Jones
X-ALT-DESC;FMTTYPE=text/html:Join us for an engaging luncheon focused on what&#39\;s happening in our county\, with exciting updates on current initiatives\, community priorities and opportunities ahead.<br />\n<br />\nLuncheon Sponsor:&nbsp\; Katherine Wells\, Financial Adviser Edward Jones
LOCATION:
UID:e.1308.17559
SEQUENCE:3
DTSTAMP:20260422T005601Z
URL:https://business.petalumachamber.us/events/details/at-the-table-with-david-rabbit-17559
END:VEVENT

END:VCALENDAR
