BEGIN:VCALENDAR
VERSION:2.0
PRODID:-//ChamberMaster//Event Calendar 2.0//EN
METHOD:PUBLISH
X-PUBLISHED-TTL:P3D
REFRESH-INTERVAL:P3D
CALSCALE:GREGORIAN
BEGIN:VEVENT
DTSTART:20221022T230000Z
DTEND:20221023T030000Z
X-MICROSOFT-CDO-ALLDAYEVENT:FALSE
SUMMARY:AVFilm 2022 Impact Awards
DESCRIPTION:The 2022 Impact Awards celebrate the future of film in our community. Honoring Erica Milsom\, director of Pixar's LOOP\, AVFilm Student Filmmaker Amelia Dublin\, and the 2022 Jackie Hoffner Heart & Hope Award Winner. Join us in your finest wine-country casual as we kick off the evening with distinctive wines from our host and hors d'oeuvres from the Healdsburg High culinary program. Take in the awards while tucking into a sumptuous spread of Sol Food's award-winning Puerto Rican fare. Fund the educational future of AVFilm\, then dance into the night with the lush rhythms of Sabor de mi Cuba. In lieu of an auction\, our team is assembling a unique collection of buy-in community experiences inspired by film that will take place throughout the year. A selection of Erica Milsom's work will be streaming for free on AVFilm's website beginning October 1.  All proceeds support the educational programs of AVFilm.
X-ALT-DESC;FMTTYPE=text/html:The 2022 Impact Awards celebrate the future of film in our community. Honoring Erica Milsom\, director of Pixar&#39\;s LOOP\, AVFilm Student Filmmaker Amelia Dublin\, and the 2022 Jackie Hoffner Heart &amp\; Hope Award Winner.&nbsp\;Join us in your finest wine-country casual as we kick off the evening with distinctive wines from our host and hors d&#39\;oeuvres from the Healdsburg High culinary program. Take in the awards while tucking into a sumptuous spread of Sol Food&#39\;s award-winning Puerto Rican fare. Fund the educational future of AVFilm\, then dance into the night with the lush rhythms of Sabor de mi Cuba. In lieu of an auction\, our team is assembling a unique collection of buy-in community experiences inspired by film that will take place throughout the year. A selection of Erica Milsom&#39\;s work will be streaming for free on AVFilm&#39\;s website beginning October 1.&nbsp\; All proceeds support the educational programs of AVFilm.&nbsp\; &nbsp\;
LOCATION:Rodney Strong Vineyards 11455 Old Redwood Hwy Healdsburg\, CA 95448
UID:e.1308.16572
SEQUENCE:3
DTSTAMP:20260421T055623Z
URL:https://business.petalumachamber.us/events/details/avfilm-2022-impact-awards-16572
END:VEVENT

END:VCALENDAR
