BEGIN:VCALENDAR
VERSION:2.0
PRODID:-//ChamberMaster//Event Calendar 2.0//EN
METHOD:PUBLISH
X-PUBLISHED-TTL:P3D
REFRESH-INTERVAL:P3D
CALSCALE:GREGORIAN
BEGIN:VEVENT
DTSTART;VALUE=DATE:20230911
DTEND;VALUE=DATE:20230912
TRANSP:TRANSPARENT
X-MICROSOFT-CDO-ALLDAYEVENT:TRUE
SUMMARY:Back to School Special $99 a mon
DESCRIPTION:Keller Street CoWork\n\nWe're offering a Back to School Special: $99 for your first month as a New Full Time Member! \n\n\n\nComes with all the perks\, including: - 24/7 access - 3 hours of conference room time per month - Exclusive access to member events and programming.
X-ALT-DESC;FMTTYPE=text/html:<strong>Keller Street CoWork</strong><br />\nWe&#39\;re offering a Back to School Special: $99 for your first month as a New Full Time Member!&nbsp\;<br />\n<br />\nComes with all the perks\, including: - 24/7 access - 3 hours of conference room time per month - Exclusive access to member events and programming.<br />\n&nbsp\;
LOCATION:140 Keller Street CoWork Petaluma\, Ca. 94952
UID:e.1308.16818
SEQUENCE:3
DTSTAMP:20260420T140112Z
URL:https://business.petalumachamber.us/events/details/back-to-school-special-99-a-mon-09-11-2023-16818
END:VEVENT

END:VCALENDAR
