BEGIN:VCALENDAR
VERSION:2.0
PRODID:-//ChamberMaster//Event Calendar 2.0//EN
METHOD:PUBLISH
X-PUBLISHED-TTL:P3D
REFRESH-INTERVAL:P3D
CALSCALE:GREGORIAN
BEGIN:VEVENT
DTSTART:20221217T030000Z
DTEND:20221218T210000Z
X-MICROSOFT-CDO-ALLDAYEVENT:FALSE
SUMMARY:Beauty and the Beast
DESCRIPTION:In Partnership with Stapleton School for the Performing Arts\, North Bay Theatrics Presents Beauty and the Beast. The classic story tells of Belle\, a young woman in a provincial town\, and the Beast\, who is really a young prince trapped under the spell of an enchantress. If the Beast can learn to love and be loved\, the curse will end\, and he will be transformed into his former self. But time is running out. If the Beast does not learn his lesson soon\, he and his household will be doomed for all eternity.
X-ALT-DESC;FMTTYPE=text/html:In Partnership with Stapleton School for the Performing Arts\, North Bay Theatrics Presents Beauty and the Beast. The classic story tells of Belle\, a young woman in a provincial town\, and the Beast\, who is really a young prince trapped under the spell of an enchantress. If the Beast can learn to love and be loved\, the curse will end\, and he will be transformed into his former self. But time is running out. If the Beast does not learn his lesson soon\, he and his household will be doomed for all eternity.
LOCATION:The Playhouse San Anselmo\, 27 Kensington Road\, San Anselmo CA 94960
UID:e.1308.16583
SEQUENCE:3
DTSTAMP:20260421T042638Z
URL:https://business.petalumachamber.us/events/details/beauty-and-the-beast-16583
END:VEVENT

END:VCALENDAR
