BEGIN:VCALENDAR
VERSION:2.0
PRODID:-//ChamberMaster//Event Calendar 2.0//EN
METHOD:PUBLISH
X-PUBLISHED-TTL:P3D
REFRESH-INTERVAL:P3D
CALSCALE:GREGORIAN
BEGIN:VEVENT
DTSTART:20230606T170000Z
DTEND:20230607T214500Z
X-MICROSOFT-CDO-ALLDAYEVENT:FALSE
SUMMARY:Blood Drive June 6 and 7 at Petaluma Elks Lodge
DESCRIPTION:TUESDAY\, June 6 10 am   2:45 pm & WEDNESDAY\, June 7 10 am   2:45 pm Please join us for a Blood Drive at Petaluma Elks Lodge - Meeting Room\, 2105 South McDowell Blvd Petaluma\, CA 94954. To make an appointment\, visit donors.vitalant.org. Enter blood drive code: PetalumaElksLodge or call 877.258.4825. Appointments are strongly encouraged. Help end the severe blood shortage by making your blood donation June 6 and 7\, or at another mobile blood drive or center near you!
X-ALT-DESC;FMTTYPE=text/html:TUESDAY\, June 6 10 am &ndash\; 2:45 pm &amp\; WEDNESDAY\, June 7 10 am &ndash\; 2:45 pm Please join us for a Blood Drive at Petaluma Elks Lodge - Meeting Room\, 2105 South McDowell Blvd Petaluma\, CA 94954. To make an appointment\, visit donors.vitalant.org. Enter blood drive code: PetalumaElksLodge or call 877.258.4825. Appointments are strongly encouraged. Help end the severe blood shortage by making your blood donation June 6 and 7\, or at another mobile blood drive or center near you!
LOCATION:2105 South McDowell Blvd Petaluma\, CA 94954
UID:e.1308.16632
SEQUENCE:3
DTSTAMP:20260420T182511Z
URL:https://business.petalumachamber.us/events/details/blood-drive-june-6-and-7-at-petaluma-elks-lodge-16632
END:VEVENT

END:VCALENDAR
