BEGIN:VCALENDAR
VERSION:2.0
PRODID:-//ChamberMaster//Event Calendar 2.0//EN
METHOD:PUBLISH
X-PUBLISHED-TTL:P3D
REFRESH-INTERVAL:P3D
CALSCALE:GREGORIAN
BEGIN:VEVENT
DTSTART:20300611T220000Z
DTEND:20300611T230000Z
X-MICROSOFT-CDO-ALLDAYEVENT:FALSE
SUMMARY:Business Builders Networking Meeting
DESCRIPTION:Business Builders Networking Meeting
X-ALT-DESC;FMTTYPE=text/html:Business Builders Networking Meeting
LOCATION:1310 Redwood Way\, Suite 200 Petaluma
UID:e.1308.17915
SEQUENCE:3
DTSTAMP:20260422T103615Z
URL:https://business.petalumachamber.us/events/details/business-builders-networking-meeting-06-11-2030-17915
END:VEVENT

END:VCALENDAR
