BEGIN:VCALENDAR
VERSION:2.0
PRODID:-//ChamberMaster//Event Calendar 2.0//EN
METHOD:PUBLISH
X-PUBLISHED-TTL:P3D
REFRESH-INTERVAL:P3D
CALSCALE:GREGORIAN
BEGIN:VEVENT
DTSTART:20220803T230000Z
DTEND:20220804T010000Z
X-MICROSOFT-CDO-ALLDAYEVENT:FALSE
SUMMARY:Career Café: Hospitality and Tourism
DESCRIPTION:You're invited to the Career Caf \, where we're brewing up fresh opportunities. Connect with local hospitality industry executives\, update your headshot\, and optimize your career prospects. RSVP here to secure your spot. Personalized introductions to local hiring managers Hospitality industry networking over coffee and tea Free professional headshots
X-ALT-DESC;FMTTYPE=text/html:You&rsquo\;re invited to the Career Caf&eacute\;\, where we&rsquo\;re brewing up fresh opportunities. Connect with local hospitality industry executives\, update your headshot\, and optimize your career prospects. RSVP here to secure your spot. Personalized introductions to local hiring managers Hospitality industry networking over coffee and tea Free professional headshots
LOCATION:Flamingo Resort 2777 Fourth Street Santa Rosa\, CA 95405
UID:e.1308.16554
SEQUENCE:3
DTSTAMP:20260421T085554Z
URL:https://business.petalumachamber.us/events/details/career-caf&#233;-hospitality-and-tourism-16554
END:VEVENT

END:VCALENDAR
