BEGIN:VCALENDAR
VERSION:2.0
PRODID:-//ChamberMaster//Event Calendar 2.0//EN
METHOD:PUBLISH
X-PUBLISHED-TTL:P3D
REFRESH-INTERVAL:P3D
CALSCALE:GREGORIAN
BEGIN:VEVENT
DTSTART:20230418T150000Z
DTEND:20230418T163000Z
X-MICROSOFT-CDO-ALLDAYEVENT:FALSE
SUMMARY:Coffee with the Chiefs
DESCRIPTION:Come join us for a cup of coffee and a pastry to hear firsthand what's new with your Public Safety Officials.  Bring your questions!
X-ALT-DESC;FMTTYPE=text/html:<span style="language:en-US\;"><span style="color:black\;"><span style="font-family:trebuchet ms\;"><span style="font-size:18.0pt\;">Come join us for a cup of coffee and a pastry to hear firsthand what&rsquo\;s new with your Public Safety Officials.&nbsp\; Bring your questions!</span></span></span></span>
LOCATION:Polly Klaas Foundation Theater 417 Western Avenue\, Petaluma
UID:e.1308.16614
SEQUENCE:3
DTSTAMP:20260420T210908Z
URL:https://business.petalumachamber.us/events/details/coffee-with-the-chiefs-16614
END:VEVENT

END:VCALENDAR
