BEGIN:VCALENDAR
VERSION:2.0
PRODID:-//ChamberMaster//Event Calendar 2.0//EN
METHOD:PUBLISH
X-PUBLISHED-TTL:P3D
REFRESH-INTERVAL:P3D
CALSCALE:GREGORIAN
BEGIN:VEVENT
DTSTART:20230830T170000Z
DTEND:20230830T204500Z
X-MICROSOFT-CDO-ALLDAYEVENT:FALSE
SUMMARY:Community Blood Drive at the Petaluma Elks Lodge
DESCRIPTION:TUESDAY\, August 29 10 am   2:15 pm & WEDNESDAY\, August 30 10 am   1:45 pm Please join us for a Blood Drive at Petaluma Elks Lodge - Meeting Room\, 2105 South McDowell Blvd Petaluma\, CA 94954. To make an appointment\, visit donors.vitalant.org. Enter blood drive code: PetalumaElksLodge or call 877.258.4825. Appointments are strongly encouraged. Help end the critical blood shortage by making your blood donation August 29 and 30\, or at another mobile blood drive or center near you!
X-ALT-DESC;FMTTYPE=text/html:TUESDAY\, August 29 10 am &ndash\; 2:15 pm &amp\; WEDNESDAY\, August 30 10 am &ndash\; 1:45 pm Please join us for a Blood Drive at Petaluma Elks Lodge - Meeting Room\, 2105 South McDowell Blvd Petaluma\, CA 94954. To make an appointment\, visit donors.vitalant.org. Enter blood drive code: PetalumaElksLodge or call 877.258.4825. Appointments are strongly encouraged. Help end the critical blood shortage by making your blood donation August 29 and 30\, or at another mobile blood drive or center near you!
LOCATION:Petaluma Elks Lodge - 2105 South McDowell Blvd.\, Petaluma\, CA 94954
UID:e.1308.16650
SEQUENCE:3
DTSTAMP:20260420T165249Z
URL:https://business.petalumachamber.us/events/details/community-blood-drive-at-the-petaluma-elks-lodge-16650
END:VEVENT

END:VCALENDAR
