BEGIN:VCALENDAR
VERSION:2.0
PRODID:-//ChamberMaster//Event Calendar 2.0//EN
METHOD:PUBLISH
X-PUBLISHED-TTL:P3D
REFRESH-INTERVAL:P3D
CALSCALE:GREGORIAN
BEGIN:VEVENT
DTSTART:20220521T170000Z
DTEND:20220521T200000Z
X-MICROSOFT-CDO-ALLDAYEVENT:FALSE
SUMMARY:Crumbl Cookies is Hiring
DESCRIPTION:Crumbl Cookies Petaluma is NOW HIRING Bakers. We are having Open Interviews this Saturday 5/21  from 10:00AM - 1:00PM
X-ALT-DESC;FMTTYPE=text/html:<span style="font-size:18px"><span style="font-family:comic sans ms">Crumbl Cookies Petaluma is NOW HIRING Bakers. We are having Open Interviews this Saturday 5/21&nbsp\; from 10:00AM - 1:00PM&nbsp\;</span></span>
LOCATION:179 N McDowell Blvd. Petaluma
UID:e.1308.16550
SEQUENCE:3
DTSTAMP:20260421T125813Z
URL:https://business.petalumachamber.us/events/details/crumbl-cookies-is-hiring-16550
END:VEVENT

END:VCALENDAR
