BEGIN:VCALENDAR
VERSION:2.0
PRODID:-//ChamberMaster//Event Calendar 2.0//EN
METHOD:PUBLISH
X-PUBLISHED-TTL:P3D
REFRESH-INTERVAL:P3D
CALSCALE:GREGORIAN
BEGIN:VEVENT
DTSTART:20220814T013000Z
DTEND:20220814T050000Z
X-MICROSOFT-CDO-ALLDAYEVENT:FALSE
SUMMARY:Dancing Under The Stars
DESCRIPTION:Dancing Under The Stars returns! Enjoy a lively evening of wine\, food\, live music\, and Bachata dancing in our outdoor Pavilion. Dance instruction will be provided by The Santa Rosa Salsa Team and is included with admission. Food and wine will be available for purchase at our outdoor Pool Cafe\, just steps from the Pavilion. *Guests must be 21 years of age or older. Please drink responsibly. August 13\, 2022 | 6:30pm - 10:00pm $50 plus tax per guest
X-ALT-DESC;FMTTYPE=text/html:Dancing Under The Stars returns! Enjoy a lively evening of wine\, food\, live music\, and Bachata dancing in our outdoor Pavilion. Dance instruction will be provided by The Santa Rosa Salsa Team and is included with admission. Food and wine will be available for purchase at our outdoor Pool Cafe\, just steps from the Pavilion. *Guests must be 21 years of age or older. Please drink responsibly. August 13\, 2022 | 6:30pm - 10:00pm $50 plus tax per guest
LOCATION:Francis Ford Coppola Winery 300 Via Archimedes\, Geyserville\, CA\, 95441
UID:e.1308.16557
SEQUENCE:3
DTSTAMP:20260421T085205Z
URL:https://business.petalumachamber.us/events/details/dancing-under-the-stars-16557
END:VEVENT

END:VCALENDAR
