BEGIN:VCALENDAR
VERSION:2.0
PRODID:-//ChamberMaster//Event Calendar 2.0//EN
METHOD:PUBLISH
X-PUBLISHED-TTL:P3D
REFRESH-INTERVAL:P3D
CALSCALE:GREGORIAN
BEGIN:VEVENT
DTSTART:20230406T180000Z
DTEND:20230411T020000Z
X-MICROSOFT-CDO-ALLDAYEVENT:FALSE
SUMMARY:DigiMarCon Cruise 2023 - Digital Marketing\, Media and Advertising Conference At Sea
DESCRIPTION:The 8th annual DigiMarCon Cruise\, the Premier Digital Marketing\, Media and Advertising Conference At Sea returns April 6th to 10th\, 2023 over the Easter long weekend onboard the Royal Caribbean 'Marina of the Seas' Cruise Ship. Join your peers for 5 days jam packed with digital marketing best practices\, latest trends\, practical solutions\, strategy and networking. Expand your knowledge on the following topics: Account-Based Marketing\, Behavioral & Neuromarketing\, Content Marketing\, Conversational Marketing\, Conversion Rate Optimization\, Data Science & Big Data\, Email Marketing\, Geo-Targeting & Proximity Marketing\, Growth Hacking\, Inbound & Outbound Marketing\, Influencer Marketing\, Mobile Marketing\, Native & Contextual Advertising\, Omnichannel Marketing\, Paid Search Marketing\, Personalization & Privacy. You'll also learn the following: Podcast & Webinar Marketing\, PR & Cause Marketing\, Predictive Analytics & Attribution\, Programmatic Advertising\, Sales & Marketing Automation\, Search Engine Optimization\, Shopper Marketing\, Marketing & Customer Experience\, Social Commerce\, Social Media Marketing\, UI / UX Design\, User-Generated Content\, Video Marketing\, Viral & Buzz Marketing\, Visual & Voice Search\, Web Analytics\, and much more!
X-ALT-DESC;FMTTYPE=text/html:The 8th annual DigiMarCon Cruise\, the Premier Digital Marketing\, Media and Advertising Conference At Sea returns April 6th to 10th\, 2023 over the Easter long weekend onboard the Royal Caribbean &lsquo\;Marina of the Seas&rsquo\; Cruise Ship. Join your peers for 5 days jam packed with digital marketing best practices\, latest trends\, practical solutions\, strategy and networking. Expand your knowledge on the following topics: Account-Based Marketing\, Behavioral &amp\; Neuromarketing\, Content Marketing\, Conversational Marketing\, Conversion Rate Optimization\, Data Science &amp\; Big Data\, Email Marketing\, Geo-Targeting &amp\; Proximity Marketing\, Growth Hacking\, Inbound &amp\; Outbound Marketing\, Influencer Marketing\, Mobile Marketing\, Native &amp\; Contextual Advertising\, Omnichannel Marketing\, Paid Search Marketing\, Personalization &amp\; Privacy. You&rsquo\;ll also learn the following: Podcast &amp\; Webinar Marketing\, PR &amp\; Cause Marketing\, Predictive Analytics &amp\; Attribution\, Programmatic Advertising\, Sales &amp\; Marketing Automation\, Search Engine Optimization\, Shopper Marketing\, Marketing &amp\; Customer Experience\, Social Commerce\, Social Media Marketing\, UI / UX Design\, User-Generated Content\, Video Marketing\, Viral &amp\; Buzz Marketing\, Visual &amp\; Voice Search\, Web Analytics\, and much more!
LOCATION:Royal Caribbean "Marina of the Seas" Cruise Ship
UID:e.1308.16601
SEQUENCE:3
DTSTAMP:20260420T211209Z
URL:https://business.petalumachamber.us/events/details/digimarcon-cruise-2023-digital-marketing-media-and-advertising-conference-at-sea-16601
END:VEVENT

END:VCALENDAR
