BEGIN:VCALENDAR
VERSION:2.0
PRODID:-//ChamberMaster//Event Calendar 2.0//EN
METHOD:PUBLISH
X-PUBLISHED-TTL:P3D
REFRESH-INTERVAL:P3D
CALSCALE:GREGORIAN
BEGIN:VEVENT
DTSTART:20220519T160000Z
DTEND:20220521T003000Z
X-MICROSOFT-CDO-ALLDAYEVENT:FALSE
SUMMARY:DigiMarCon Rocky Mountains 2022 - Digital Marketing\, Media and Advertising Conference & Exhibition
DESCRIPTION:DigiMarCon Rocky Mountains\, the Premier Digital Marketing\, Media and Advertising Conference & Exhibition in the Rocky Mountains Region\, returns May 19th and 20th\, 2022 to the luxurious Sheraton Denver Downtown Hotel in Denver\, Colorado. Join your peers in-person or online for 2-days jam-packed with digital marketing best practices\, latest trends\, practical solutions\, strategy\, and networking\, also check out the next generation of technology & innovation\; Internet\, Mobile\, AdTech\, MarTech & SaaS Technology. Expand your knowledge on the following topics: Account-Based Marketing\, Behavioral & Neuromarketing\, Content Marketing\, Conversational Marketing\, Conversion Rate Optimization\, Data Science & Big Data\, Email Marketing\, Geo-Targeting & Proximity Marketing\, Growth Hacking\, Inbound & Outbound Marketing\, Influencer Marketing\, Mobile Marketing\, Native & Contextual Advertising\, Omnichannel Marketing\, Paid Search Marketing\, Personalization & Privacy. You'll also learn the following: Podcast & Webinar Marketing\, PR & Cause Marketing\, Predictive Analytics & Attribution\, Programmatic Advertising\, Sales & Marketing Automation\, Search Engine Optimization\, Shopper Marketing\, Marketing & Customer Experience\, Social Commerce\, Social Media Marketing\, UI / UX Design\, User-Generated Content\, Video Marketing\, Viral & Buzz Marketing\, Visual & Voice Search\, Web Analytics\, and much more! Onsite Safety: Your safety is our TOP PRIORITY! Our qualified team is dedicated to ensuring a great experience at our in-person events\, and that includes providing a COVID-Safe\, clean and hygienic environment for our delegates. 100% Money Back Guarantee: Booking your ticket is RISK-FREE. You can cancel and get a full refund up until 30 days before the event. At DigiMarCon Rocky Mountains 2022\, you will receive all the elements you need to achieve digital marketing success! Conventional thoughts will be challenged\, and new ways of thinking will emerge. You will leave with your head\, notebooks\, and professional toolkit full of action items and ideas to lead and supercharge your agency/team/account to even greater success. Be a part of DigiMarCon Rocky Mountains 2022 and discover how to thrive and succeed as a marketer in a rapidly evolving digital world. Top keynotes\, case studies\, strategy sessions\, networking\, and more in a safe and hygienic environment!
X-ALT-DESC;FMTTYPE=text/html:DigiMarCon Rocky Mountains\, the Premier Digital Marketing\, Media and Advertising Conference &amp\; Exhibition in the Rocky Mountains Region\, returns May 19th and 20th\, 2022 to the luxurious Sheraton Denver Downtown Hotel in Denver\, Colorado. Join your peers in-person or online for 2-days jam-packed with digital marketing best practices\, latest trends\, practical solutions\, strategy\, and networking\, also check out the next generation of technology &amp\; innovation\; Internet\, Mobile\, AdTech\, MarTech &amp\; SaaS Technology. Expand your knowledge on the following topics: Account-Based Marketing\, Behavioral &amp\; Neuromarketing\, Content Marketing\, Conversational Marketing\, Conversion Rate Optimization\, Data Science &amp\; Big Data\, Email Marketing\, Geo-Targeting &amp\; Proximity Marketing\, Growth Hacking\, Inbound &amp\; Outbound Marketing\, Influencer Marketing\, Mobile Marketing\, Native &amp\; Contextual Advertising\, Omnichannel Marketing\, Paid Search Marketing\, Personalization &amp\; Privacy. You&rsquo\;ll also learn the following: Podcast &amp\; Webinar Marketing\, PR &amp\; Cause Marketing\, Predictive Analytics &amp\; Attribution\, Programmatic Advertising\, Sales &amp\; Marketing Automation\, Search Engine Optimization\, Shopper Marketing\, Marketing &amp\; Customer Experience\, Social Commerce\, Social Media Marketing\, UI / UX Design\, User-Generated Content\, Video Marketing\, Viral &amp\; Buzz Marketing\, Visual &amp\; Voice Search\, Web Analytics\, and much more! Onsite Safety: Your safety is our TOP PRIORITY! Our qualified team is dedicated to ensuring a great experience at our in-person events\, and that includes providing a COVID-Safe\, clean and hygienic environment for our delegates. 100% Money Back Guarantee: Booking your ticket is RISK-FREE. You can cancel and get a full refund up until 30 days before the event. At DigiMarCon Rocky Mountains 2022\, you will receive all the elements you need to achieve digital marketing success! Conventional thoughts will be challenged\, and new ways of thinking will emerge. You will leave with your head\, notebooks\, and professional toolkit full of action items and ideas to lead and supercharge your agency/team/account to even greater success. Be a part of DigiMarCon Rocky Mountains 2022 and discover how to thrive and succeed as a marketer in a rapidly evolving digital world. Top keynotes\, case studies\, strategy sessions\, networking\, and more in a safe and hygienic environment!
LOCATION:Sheraton Denver Downtown Hotel
UID:e.1308.16353
SEQUENCE:3
DTSTAMP:20260421T142229Z
URL:https://business.petalumachamber.us/events/details/digimarcon-rocky-mountains-2022-digital-marketing-media-and-advertising-conference-exhibition-16353
END:VEVENT

END:VCALENDAR
