BEGIN:VCALENDAR
VERSION:2.0
PRODID:-//ChamberMaster//Event Calendar 2.0//EN
METHOD:PUBLISH
X-PUBLISHED-TTL:P3D
REFRESH-INTERVAL:P3D
CALSCALE:GREGORIAN
BEGIN:VEVENT
DTSTART:20220519T200000Z
DTEND:20220519T213000Z
X-MICROSOFT-CDO-ALLDAYEVENT:FALSE
SUMMARY:Drive with Dignity – A Safe Drive Through the Aging Process
DESCRIPTION:Drive with Dignity   A Safe Drive Through the Aging Process\n\nThursday\, May 19\, 1:00 pm   2:30 pm\, on Zoom. \n\nDeveloped specifically for senior drivers\, this presentation is a practical\, entertaining\, and realistic approach to the issue of "senior drivers vs. the aging process." Our presentation takes a direct yet compassionate approach to the recognition that someday it may be necessary to relinquish a bit of that treasured driving independence. The ultimate goal is not to take away driving opportunities from older drivers\, but rather to offer suggestions on how to recognize and compensate for diminishing skills in order to remain safe drivers. Register by May 13 for the link.\n\n\n\nLoretta Rotola and DJ Colbert\, with Senior Care Authority\, will co-present the program.\n\nPlease register for this presentation online by clicking here\, email us at info@VillageNetworkofPetaluma.org\, or call the Village office at 707-776-6055. The event is free\, donations appreciated.\n\n \n\nAbout Village Network of Petaluma\n\nThe Village Network is a non-profit grassroots organization empowering Petaluma-Penngrove area residents age 50+ to live independent\, vibrant\, and connected lives in the places we call home. Aging Better Together.\n\nFor more information:\n\nPhone: 707 776-6055\n\nWebsite: http://www.VillageNetworkofPetaluma.org\n\nEmail: info@villagenetworkofpetaluma.org
X-ALT-DESC;FMTTYPE=text/html:<strong><span style="color:darkgreen"><span style="font-family:verdana\,sans-serif"><span style="font-size:13.0pt">Drive with Dignity </span></span></span></strong><em><strong><span style="color:darkgreen"><span style="font-family:verdana\,sans-serif"><span style="font-size:13.0pt">&ndash\;</span></span></span></strong></em><strong><span style="color:darkgreen"><span style="font-family:verdana\,sans-serif"><span style="font-size:13.0pt"> A Safe Drive Through the Aging Process</span></span></span></strong><br />\n<span style="font-family:verdana\,sans-serif"><span style="font-size:13.0pt"><strong><span style="color:black"><span style="font-family:verdana\,sans-serif">Thursday\, May 19\, 1:00 pm &ndash\; 2:30 pm\, on Zoom.&nbsp\;</span></span></strong></span><br />\n<span style="color:black">Developed specifically for senior drivers\, this presentation is a practical\, entertaining\, and realistic approach to the issue of &quot\;senior drivers vs. the aging process.&quot\; Our presentation takes a direct yet compassionate approach to the recognition that someday it may be necessary to relinquish a bit of that treasured driving independence. The ultimate goal is not to take away driving opportunities from older drivers\, but rather to offer suggestions on how to recognize and compensate for diminishing skills in order to remain safe drivers. <strong><span style="font-family:verdana\,sans-serif">Register by May 13 for the link.</span></strong></span><br />\n<br />\n<em><span style="font-family:verdana\,sans-serif">Loretta Rotola and DJ Colbert\, with Senior Care Authority\, will co-present the program.</span></em></span><br />\n<span style="font-family:verdana\,sans-serif"><span style="font-size:13.0pt">Please register for this presentation online by clicking </span></span><span style="font-family:verdana\,sans-serif"><span style="font-size:13.0pt"><a href="https://petaluma.helpfulvillage.com/events">here</a></span></span><span style="font-family:verdana\,sans-serif"><span style="font-size:13.0pt">\, email us at </span></span><span style="font-family:verdana\,sans-serif"><span style="font-size:13.0pt"><a href="mailto:info@VillageNetworkofPetaluma.org">info@VillageNetworkofPetaluma.org</a></span></span><span style="font-family:verdana\,sans-serif"><span style="font-size:13.0pt">\, or call the Village office at 707-776-6055. The event is free\, donations appreciated.</span></span><br />\n&nbsp\;<br />\n<strong><span style="font-family:verdana\,sans-serif"><span style="font-size:13.0pt">About Village Network of Petaluma</span></span></strong><br />\n<span style="font-family:verdana\,sans-serif"><span style="font-size:13.0pt">The Village Network is a non-profit grassroots organization empowering Petaluma-Penngrove area residents age 50+ to live independent\, vibrant\, and connected lives in the places we call home. Aging Better Together.</span></span><br />\n<span style="font-family:verdana\,sans-serif"><span style="font-size:13.0pt">For more information:</span></span><br />\n<span style="font-family:verdana\,sans-serif"><span style="font-size:13.0pt">Phone: 707 776-6055</span></span><br />\n<span style="font-family:verdana\,sans-serif"><span style="font-size:13.0pt">Website: </span></span><span style="font-family:verdana\,sans-serif"><span style="font-size:13.0pt"><a href="http://www.VillageNetworkofPetaluma.org">http://www.VillageNetworkofPetaluma.org</a></span></span><br />\n<span style="font-family:verdana\,sans-serif"><span style="font-size:13.0pt">Email: </span></span><span style="font-family:verdana\,sans-serif"><span style="font-size:13.0pt"><a href="mailto:info@villagenetworkofpetaluma.org">info@villagenetworkofpetaluma.org</a></span></span><br />\n&nbsp\;
LOCATION:
UID:e.1308.16545
SEQUENCE:3
DTSTAMP:20260421T125633Z
URL:https://business.petalumachamber.us/events/details/drive-with-dignity-a-safe-drive-through-the-aging-process-16545
END:VEVENT

END:VCALENDAR
