BEGIN:VCALENDAR
VERSION:2.0
PRODID:-//ChamberMaster//Event Calendar 2.0//EN
METHOD:PUBLISH
X-PUBLISHED-TTL:P3D
REFRESH-INTERVAL:P3D
CALSCALE:GREGORIAN
BEGIN:VEVENT
DTSTART:20230409T180000Z
DTEND:20230409T210000Z
X-MICROSOFT-CDO-ALLDAYEVENT:FALSE
SUMMARY:Easter Bunny at Coppola
DESCRIPTION:The Bunny will be at Coppola on Easter! On Easter Sunday\, April 9th from 11am-2pm\, The Easter Bunny will be hop-hop-hopping around Francis Ford Coppola Winery to take pictures with guests - both big and small! During your visit\, we invite you to enjoy lunch in Rustic. We will have just unveiled our Spring Menu\, featuring dishes peppered with seasonal ingredients from our own Culinary Garden\, as well as the return of some classic dishes like Linguini with Clams and Bucatini Carbonara! No reservations are needed to meet The Bunny! However\, if you would like to dine with us or enjoy a seated tastings\, reservations are highly recommended. For more information and to make reservations\, click here. Please note   the winery will not be hosting an Easter Egg Hunt or an Easter Event.
X-ALT-DESC;FMTTYPE=text/html:The Bunny will be at Coppola on Easter! On Easter Sunday\, April 9th from 11am-2pm\, The Easter Bunny will be hop-hop-hopping around Francis Ford Coppola Winery to take pictures with guests - both big and small! During your visit\, we invite you to enjoy lunch in Rustic. We will have just unveiled our Spring Menu\, featuring dishes peppered with seasonal ingredients from our own Culinary Garden\, as well as the return of some classic dishes like Linguini with Clams and Bucatini Carbonara! No reservations are needed to meet The Bunny! However\, if you would like to dine with us or enjoy a seated tastings\, reservations are highly recommended. For more information and to make reservations\, click here. Please note &ndash\; the winery will not be hosting an Easter Egg Hunt or an Easter Event.
LOCATION:Francis Ford Coppola Winery
UID:e.1308.16616
SEQUENCE:3
DTSTAMP:20260420T210851Z
URL:https://business.petalumachamber.us/events/details/easter-bunny-at-coppola-16616
END:VEVENT

END:VCALENDAR
