BEGIN:VCALENDAR
VERSION:2.0
PRODID:-//ChamberMaster//Event Calendar 2.0//EN
METHOD:PUBLISH
X-PUBLISHED-TTL:P3D
REFRESH-INTERVAL:P3D
CALSCALE:GREGORIAN
BEGIN:VEVENT
DTSTART:20231116T000000Z
DTEND:20231116T023000Z
X-MICROSOFT-CDO-ALLDAYEVENT:FALSE
SUMMARY:Excellence in Construction Awards
DESCRIPTION:Join us in celebrating Excellence in Construction within the North Bay. Formerly known as Top Projects\, this awards event aims to honor and recognize excellent work that has happened within the year. We'd like you to join us in marveling at how these plans and projects remade the landmarks of the past or established the landmarks of the future. Sally Tomatoes | 1100 Valley House Drive\, Rohnert Park November 15\, 2023 | 4-6 pm Networking from 4-5 pm Awards presentation from 5-6 pm
X-ALT-DESC;FMTTYPE=text/html:Join us in celebrating Excellence in Construction within the North Bay. Formerly known as Top Projects\, this awards event aims to honor and recognize excellent work that has happened within the year. We&rsquo\;d like you to join us in marveling at how these plans and projects remade the landmarks of the past or established the landmarks of the future. Sally Tomatoes | 1100 Valley House Drive\, Rohnert Park November 15\, 2023 | 4-6 pm Networking from 4-5 pm Awards presentation from 5-6 pm
LOCATION:Sally Tomatoes
UID:e.1308.16855
SEQUENCE:3
DTSTAMP:20260420T110538Z
URL:https://business.petalumachamber.us/events/details/excellence-in-construction-awards-16855
END:VEVENT

END:VCALENDAR
