BEGIN:VCALENDAR
VERSION:2.0
PRODID:-//ChamberMaster//Event Calendar 2.0//EN
METHOD:PUBLISH
X-PUBLISHED-TTL:P3D
REFRESH-INTERVAL:P3D
CALSCALE:GREGORIAN
BEGIN:VEVENT
DTSTART:20230115T033000Z
DTEND:20230115T070000Z
X-MICROSOFT-CDO-ALLDAYEVENT:FALSE
SUMMARY:Fleetwood Mask at the Mystic Theater
DESCRIPTION:Fleetwood Mask is coming back to the Mystic Theater in Petaluma! Come enjoy the magic of an authentic Fleetwood Mac experience as they play all your favorite songs. From "Mystery To Me" to "Tango in the Night" and beyond\, Fleetwood Mask will make sure you see an unforgettable show. We hope to see you there!
X-ALT-DESC;FMTTYPE=text/html:Fleetwood Mask is coming back to the Mystic Theater in Petaluma! Come enjoy the magic of an authentic Fleetwood Mac experience as they play all your favorite songs. From &quot\;Mystery To Me&quot\; to &quot\;Tango in the Night&quot\; and beyond\, Fleetwood Mask will make sure you see an unforgettable show. We hope to see you there!
LOCATION:The Mystic Theater 23 Petaluma Blvd N\, Petaluma\, CA 94952
UID:e.1308.16595
SEQUENCE:3
DTSTAMP:20260421T014425Z
URL:https://business.petalumachamber.us/events/details/fleetwood-mask-at-the-mystic-theater-16595
END:VEVENT

END:VCALENDAR
