BEGIN:VCALENDAR
VERSION:2.0
PRODID:-//ChamberMaster//Event Calendar 2.0//EN
METHOD:PUBLISH
X-PUBLISHED-TTL:P3D
REFRESH-INTERVAL:P3D
CALSCALE:GREGORIAN
BEGIN:VEVENT
DTSTART:20220624T030000Z
DTEND:20220626T220000Z
X-MICROSOFT-CDO-ALLDAYEVENT:FALSE
SUMMARY:Flynn Creek Circus presents Balloons\, Birds and Other Flying Things
DESCRIPTION:" the distinction between past\, present and future is only a stubbornly persistent illusion."   Einstein The 2022 season show is a series of real memories submitted by our audience and interpreted in wild acrobatics\, comedy\, and awe-inspiring stunts. Deeply personal vignettes string together a larger story about the illusive\, fleeting nature of time and how it transforms\, defines\, and inspires us. Internationally award winning talents from around the globe come together in this star-studded cast of creators. This is the show everyone will be talking about this Summer. Featuring original\, live music from legendary rock stars Eric McFadden and Kate Vargas. Flynn Creek Circus is an all-human spectacle. In conjunction Flynn Creek Circus will be offering a circus workshop for ages 7-15. Wednesday\, June 22 - Friday\, June 24 from 9am - 12pm. Signup information at https://www.flynncreekcircus.com/2022-circus-camps/.
X-ALT-DESC;FMTTYPE=text/html:&quot\;&hellip\;the distinction between past\, present and future is only a stubbornly persistent illusion.&quot\; &ndash\; Einstein The 2022 season show is a series of real memories submitted by our audience and interpreted in wild acrobatics\, comedy\, and awe-inspiring stunts. Deeply personal vignettes string together a larger story about the illusive\, fleeting nature of time and how it transforms\, defines\, and inspires us. Internationally award winning talents from around the globe come together in this star-studded cast of creators. This is the show everyone will be talking about this Summer. Featuring original\, live music from legendary rock stars Eric McFadden and Kate Vargas. Flynn Creek Circus is an all-human spectacle. In conjunction Flynn Creek Circus will be offering a circus workshop for ages 7-15. Wednesday\, June 22 - Friday\, June 24 from 9am - 12pm. Signup information at https://www.flynncreekcircus.com/2022-circus-camps/.
LOCATION:Flynn Creek Circus performances will be held at the Luther Burbank Center\, under the big top. 50 Marks West Springs Road\, Santa Rosa CA\, 95403.
UID:e.1308.16546
SEQUENCE:3
DTSTAMP:20260421T113107Z
URL:https://business.petalumachamber.us/events/details/flynn-creek-circus-presents-balloons-birds-and-other-flying-things-06-23-2022-16546
END:VEVENT

END:VCALENDAR
