BEGIN:VCALENDAR
VERSION:2.0
PRODID:-//ChamberMaster//Event Calendar 2.0//EN
METHOD:PUBLISH
X-PUBLISHED-TTL:P3D
REFRESH-INTERVAL:P3D
CALSCALE:GREGORIAN
BEGIN:VEVENT
DTSTART:20220715T020000Z
DTEND:20220718T010000Z
X-MICROSOFT-CDO-ALLDAYEVENT:FALSE
SUMMARY:Flynn Creek Circus presents Balloons\, Birds and Other Flying Things
DESCRIPTION:" the distinction between past\, present and future is only a stubbornly persistent illusion."   Einstein The 2022 season show is a series of real memories submitted by our audience and interpreted in wild acrobatics\, comedy\, and awe-inspiring stunts. Deeply personal vignettes string together a larger story about the illusive\, fleeting nature of time and how it transforms\, defines\, and inspires us. Internationally award winning talents from around the globe come together in this star-studded cast of creators. This is the show everyone will be talking about this Summer. Featuring original\, live music from legendary rock stars Eric McFadden and Kate Vargas. Flynn Creek Circus is an all-human spectacle. Sponsored be the City of Rohnert Park. In conjunction Flynn Creek Circus will be offering a circus workshop for ages 7-15. Wednesday\, July 13 - Friday\, July 15 from 9:00am - 12:00pm. Signup information at https://www.flynncreekcircus.com/2022-circus-camps/.
X-ALT-DESC;FMTTYPE=text/html:&quot\;&hellip\;the distinction between past\, present and future is only a stubbornly persistent illusion.&quot\; &ndash\; Einstein The 2022 season show is a series of real memories submitted by our audience and interpreted in wild acrobatics\, comedy\, and awe-inspiring stunts. Deeply personal vignettes string together a larger story about the illusive\, fleeting nature of time and how it transforms\, defines\, and inspires us. Internationally award winning talents from around the globe come together in this star-studded cast of creators. This is the show everyone will be talking about this Summer. Featuring original\, live music from legendary rock stars Eric McFadden and Kate Vargas. Flynn Creek Circus is an all-human spectacle. Sponsored be the City of Rohnert Park. In conjunction Flynn Creek Circus will be offering a circus workshop for ages 7-15. Wednesday\, July 13 - Friday\, July 15 from 9:00am - 12:00pm. Signup information at https://www.flynncreekcircus.com/2022-circus-camps/.
LOCATION:Rohnert Park Community Center Complex\, under the big top. 5401 Snyder Lane\, Rohnert Park CA\, 94928.
UID:e.1308.16548
SEQUENCE:3
DTSTAMP:20260421T113107Z
URL:https://business.petalumachamber.us/events/details/flynn-creek-circus-presents-balloons-birds-and-other-flying-things-07-14-2022-16548
END:VEVENT

END:VCALENDAR
