BEGIN:VCALENDAR
VERSION:2.0
PRODID:-//ChamberMaster//Event Calendar 2.0//EN
METHOD:PUBLISH
X-PUBLISHED-TTL:P3D
REFRESH-INTERVAL:P3D
CALSCALE:GREGORIAN
BEGIN:VEVENT
DTSTART:20230326T003000Z
DTEND:20230326T040000Z
X-MICROSOFT-CDO-ALLDAYEVENT:FALSE
SUMMARY:Francis Ford Coppola Winery Dungeness & Diamonds
DESCRIPTION:Francis Ford Coppola Winery is hosting a dazzling night of Dungeness and Diamonds   a sumptuous feast of Dungeness crab paired exquisitely with our Diamond Collection Appellation Series wines! Join us at 5:30pm on the West Terrace for a wine and appetizer reception* before moving to the West Tower for a feast of freshly prepared Dungeness crab and sides\, expertly paired wine\, good company\, and more! Get together a party and reserve a table for 10! A full buyout of a table guarantees just you and your friends will sit together. We're happy to customize a sign for your table   just let us know what you'd like it to say! *In the event of inclement weather\, the reception will be held indoors. Reservations required - please note that tickets must be purchased in advance and will not be available at the door. Limit 10 tickets per order. Guests must be 21 years of age or older. Please drink responsibly.
X-ALT-DESC;FMTTYPE=text/html:Francis Ford Coppola Winery is hosting a dazzling night of Dungeness and Diamonds &ndash\; a sumptuous feast of Dungeness crab paired exquisitely with our Diamond Collection Appellation Series wines! Join us at 5:30pm on the West Terrace for a wine and appetizer reception* before moving to the West Tower for a feast of freshly prepared Dungeness crab and sides\, expertly paired wine\, good company\, and more! Get together a party and reserve a table for 10! A full buyout of a table guarantees just you and your friends will sit together. We&rsquo\;re happy to customize a sign for your table &ndash\; just let us know what you&rsquo\;d like it to say! *In the event of inclement weather\, the reception will be held indoors. Reservations required - please note that tickets must be purchased in advance and will not be available at the door. Limit 10 tickets per order. Guests must be 21 years of age or older. Please drink responsibly.
LOCATION:Francis Ford Coppola Winery 300 Via Archimedes Geyserville\, CA 95441
UID:e.1308.16615
SEQUENCE:3
DTSTAMP:20260420T224030Z
URL:https://business.petalumachamber.us/events/details/francis-ford-coppola-winery-dungeness-diamonds-16615
END:VEVENT

END:VCALENDAR
