BEGIN:VCALENDAR
VERSION:2.0
PRODID:-//ChamberMaster//Event Calendar 2.0//EN
METHOD:PUBLISH
X-PUBLISHED-TTL:P3D
REFRESH-INTERVAL:P3D
CALSCALE:GREGORIAN
BEGIN:VEVENT
DTSTART:20230412T200000Z
DTEND:20230412T230000Z
X-MICROSOFT-CDO-ALLDAYEVENT:FALSE
SUMMARY:Francis Ford Coppola Winery Hiring Event!
DESCRIPTION:Come join us at our Hiring Event on April 12th\, from 1-4pm at Francis Ford Coppola Winery\, in Geyserville! Voted one of the Best Places to Work in the North Bay multiple years in a row\, Francis Ford Coppola Winery is looking for creative\, dynamic\, and passionate people to join our team! "The Best Place to Work"   plus some GREAT benefits!   Full Time and Seasonal positions available!   Discounts on wines\, merchandise\, events\, and tastings for you (and your family!)   Discounts at our restaurants and resort style pool   Great incentives for sales positions   401k and Medical Benefits for all positions   Flexible schedules   Training\, tuition reimbursement and scholarships   Employee referral bonuses Don't miss your opportunity to join our growing teams! Full Time and Seasonal positions are now open in Restaurants\, Winemaking\, Hospitality\, Tasting Room\, Guest Services\, Lifeguards\, Events\, Housekeeping\, and Production.
X-ALT-DESC;FMTTYPE=text/html:Come join us at our Hiring Event on April 12th\, from 1-4pm at Francis Ford Coppola Winery\, in Geyserville! Voted one of the Best Places to Work in the North Bay multiple years in a row\, Francis Ford Coppola Winery is looking for creative\, dynamic\, and passionate people to join our team! &ldquo\;The Best Place to Work&rdquo\; &hellip\; plus some GREAT benefits! &bull\; Full Time and Seasonal positions available! &bull\; Discounts on wines\, merchandise\, events\, and tastings for you (and your family!) &bull\; Discounts at our restaurants and resort style pool &bull\; Great incentives for sales positions &bull\; 401k and Medical Benefits for all positions &bull\; Flexible schedules &bull\; Training\, tuition reimbursement and scholarships &bull\; Employee referral bonuses Don&rsquo\;t miss your opportunity to join our growing teams! Full Time and Seasonal positions are now open in Restaurants\, Winemaking\, Hospitality\, Tasting Room\, Guest Services\, Lifeguards\, Events\, Housekeeping\, and Production.
LOCATION:Francis Ford Coppola Winery
UID:e.1308.16620
SEQUENCE:3
DTSTAMP:20260420T210922Z
URL:https://business.petalumachamber.us/events/details/francis-ford-coppola-winery-hiring-event-16620
END:VEVENT

END:VCALENDAR
