BEGIN:VCALENDAR
VERSION:2.0
PRODID:-//ChamberMaster//Event Calendar 2.0//EN
METHOD:PUBLISH
X-PUBLISHED-TTL:P3D
REFRESH-INTERVAL:P3D
CALSCALE:GREGORIAN
BEGIN:VEVENT
DTSTART:20231202T190000Z
DTEND:20231204T000000Z
X-MICROSOFT-CDO-ALLDAYEVENT:FALSE
SUMMARY:Francis Ford Coppola Winery - Holiday Open House
DESCRIPTION:The winery halls are decked for the holidays and the shelves are brimming with gifts and wine! Join us for our Annual Holiday Open House to enjoy discounts to stock up your cellar\, check everyone off your holiday list   and\, perhaps\, find something for yourself! Bring your friends and family - EVERYONE receives 30% off wine and 30% off merchandise. Members receive 40% off wine + 40% off merchandise!* No tickets or RSVP needed   Our Holiday Open House is complimentary and open for all! While here\, enjoy a tasting the bar\, make a reservation for a seated tasting\, or book a table for lunch at Rustic! *discounts can't be combined with other discounts or offers. Some exclusions may apply.
X-ALT-DESC;FMTTYPE=text/html:The winery halls are decked for the holidays and the shelves are brimming with gifts and wine! Join us for our Annual Holiday Open House to enjoy discounts to stock up your cellar\, check everyone off your holiday list &hellip\; and\, perhaps\, find something for yourself! Bring your friends and family - EVERYONE receives 30% off wine and 30% off merchandise. Members receive 40% off wine + 40% off merchandise!* No tickets or RSVP needed &ndash\; Our Holiday Open House is complimentary and open for all! While here\, enjoy a tasting the bar\, make a reservation for a seated tasting\, or book a table for lunch at Rustic! *discounts can&rsquo\;t be combined with other discounts or offers. Some exclusions may apply.
LOCATION:Francis Ford Coppola Winery 300 Via Archimedes\, Geyserville
UID:e.1308.16859
SEQUENCE:3
DTSTAMP:20260420T093857Z
URL:https://business.petalumachamber.us/events/details/francis-ford-coppola-winery-holiday-open-house-16859
END:VEVENT

END:VCALENDAR
