BEGIN:VCALENDAR
VERSION:2.0
PRODID:-//ChamberMaster//Event Calendar 2.0//EN
METHOD:PUBLISH
X-PUBLISHED-TTL:P3D
REFRESH-INTERVAL:P3D
CALSCALE:GREGORIAN
BEGIN:VEVENT
DTSTART:20231028T180000Z
DTEND:20231028T200000Z
X-MICROSOFT-CDO-ALLDAYEVENT:FALSE
SUMMARY:Francis Ford Coppola Winery’s Annual Kids Halloween Carnival
DESCRIPTION:The Francis Ford Coppola Winery Halloween Carnival returns! Join us Saturday\, October 28th from 11am - 1pm\, for Francis Ford Coppola Winery's Annual Kids Halloween Carnival. Wear your most eerie-sistible costumes for a day of ghoulish games\, a fortune teller\, reptiles and other animals to pet\, a Wheel of Deals\, devilish decorations\, and entertainment for all!! Fang-tastic food and beverages will be available for purchase at our Monster Munch Snack Table and the scary good Pool Caf ! Limite 8 tickets per Reservation. All ages welcome. Guests must be 21 years of age or older to purchase and consume alcohol.
X-ALT-DESC;FMTTYPE=text/html:The Francis Ford Coppola Winery Halloween Carnival returns! Join us Saturday\, October 28th from 11am - 1pm\, for Francis Ford Coppola Winery&rsquo\;s Annual Kids Halloween Carnival. Wear your most eerie-sistible costumes for a day of ghoulish games\, a fortune teller\, reptiles and other animals to pet\, a Wheel of Deals\, devilish decorations\, and entertainment for all!! Fang-tastic food and beverages will be available for purchase at our Monster Munch Snack Table and the scary good Pool Caf&eacute\;! Limite 8 tickets per Reservation. All ages welcome. Guests must be 21 years of age or older to purchase and consume alcohol.
LOCATION:Francis Ford Coppola Winery 300 Via Archimedes\, Geyserville\, Ca 95441
UID:e.1308.16843
SEQUENCE:3
DTSTAMP:20260420T125552Z
URL:https://business.petalumachamber.us/events/details/francis-ford-coppola-winery-s-annual-kids-halloween-carnival-10-28-2023-16843
END:VEVENT

END:VCALENDAR
