BEGIN:VCALENDAR
VERSION:2.0
PRODID:-//ChamberMaster//Event Calendar 2.0//EN
METHOD:PUBLISH
X-PUBLISHED-TTL:P3D
REFRESH-INTERVAL:P3D
CALSCALE:GREGORIAN
BEGIN:VEVENT
DTSTART;VALUE=DATE:20231001
DTEND;VALUE=DATE:20231127
TRANSP:TRANSPARENT
X-MICROSOFT-CDO-ALLDAYEVENT:TRUE
SUMMARY:Francis Ford Coppola Winery: Scarecrow Scavenger Hunt
DESCRIPTION:The scarecrows return to Coppola...this time\, with a scavenger hunt! Each fall\, you can find (not so scary) scarecrows all dressed up and hiding throughout the Francis Ford Coppola Winery. This year\, we're adding a clever Scavenger Hunt to help you locate all nine scarecrows! Upon completing the Scavenger Hunt\, stop by Guest Services for a small prize and crayons to complete a Scavenger Hunt coloring page! October 1 - November 26 | Available Thursday - Monday\, 11am-5pm daily Complimentary for All Guests
X-ALT-DESC;FMTTYPE=text/html:The scarecrows return to Coppola...this time\, with a scavenger hunt! Each fall\, you can find (not so scary) scarecrows all dressed up and hiding throughout the Francis Ford Coppola Winery. This year\, we&#39\;re adding a clever Scavenger Hunt to help you locate all nine scarecrows! Upon completing the Scavenger Hunt\, stop by Guest Services for a small prize and crayons to complete a Scavenger Hunt coloring page! October 1 - November 26 | Available Thursday - Monday\, 11am-5pm daily Complimentary for All Guests
LOCATION:Francis Ford Coppola Winery 300 Via Archimedes\, Geyserville
UID:e.1308.16844
SEQUENCE:3
DTSTAMP:20260420T110742Z
URL:https://business.petalumachamber.us/events/details/francis-ford-coppola-winery-scarecrow-scavenger-hunt-16844
END:VEVENT

END:VCALENDAR
