BEGIN:VCALENDAR
VERSION:2.0
PRODID:-//ChamberMaster//Event Calendar 2.0//EN
METHOD:PUBLISH
X-PUBLISHED-TTL:P3D
REFRESH-INTERVAL:P3D
CALSCALE:GREGORIAN
BEGIN:VEVENT
DTSTART:20230210T190000Z
DTEND:20230214T000000Z
X-MICROSOFT-CDO-ALLDAYEVENT:FALSE
SUMMARY:Francis Ford Coppola Winery Valentine's Weekend Wine & Chocolate Flight
DESCRIPTION:Indulge in a decadent wine and chocolate flight\, as we guide you through four different wines from the Francis Coppola Reserve collection exquisitely paired with four different Volo chocolates. Come experience the magic of Francis Coppola Reserve Chardonnay\, Pinot Noir\, Petite Sirah\, and Cabernet Sauvignon and their ultimate chocolate matches!
X-ALT-DESC;FMTTYPE=text/html:Indulge in a decadent wine and chocolate flight\, as we guide you through four different wines from the Francis Coppola Reserve collection exquisitely paired with four different Volo chocolates. Come experience the magic of Francis Coppola Reserve Chardonnay\, Pinot Noir\, Petite Sirah\, and Cabernet Sauvignon and their ultimate chocolate matches!
LOCATION:Francis Ford Coppola Winery
UID:e.1308.16612
SEQUENCE:3
DTSTAMP:20260421T000927Z
URL:https://business.petalumachamber.us/events/details/francis-ford-coppola-winery-valentine-s-weekend-wine-chocolate-flight-16612
END:VEVENT

END:VCALENDAR
