BEGIN:VCALENDAR
VERSION:2.0
PRODID:-//ChamberMaster//Event Calendar 2.0//EN
METHOD:PUBLISH
X-PUBLISHED-TTL:P3D
REFRESH-INTERVAL:P3D
CALSCALE:GREGORIAN
BEGIN:VEVENT
DTSTART:20220421T170000Z
DTEND:20220421T181500Z
X-MICROSOFT-CDO-ALLDAYEVENT:FALSE
SUMMARY:Get To Know the Village
DESCRIPTION:Get to Know the Village   Informational Meeting for potential members and volunteers and anyone curious about our organization.\n\n \n\nEvery 3rd Thursday\, 10am   11:15am on Zoom   April 21 is the next one!\n\n \n\nIf you'd like more fun and connection in your life\, learn how members aged 50+ and volunteers of all ages navigate the opportunities and transitions of aging. Aging Better Together!\n\n \n\nThe Village Network of Petaluma is a trusted community of Petaluma and Penngrove residents mutually supporting each other. Our many interest groups bring us together to socialize\, exchange ideas\, and explore creativity. In addition to classes and events\, we give and receive support: rides\, errands\, technology help\, and minor home repairs. Many of our members are volunteers too!\n\n \n\nWith one phone call\, members can schedule weekly volunteer services\, access other community resources and receive member-recommended referrals. Associate memberships are also available for those interested in attending groups\, classes\, and events.\n\n \n\nPlease register in advance to receive the Zoom link or call-in phone number \n\nhttps://www.villagenetworkofpetaluma.org/events\n\nBy phone: 707 776-6055\n\nBy email: info@villagenetworkofpetaluma.org\n\n \n\nMISSION\n\nThe Village Network is a non-profit grassroots organization empowering Petaluma area residents age 50+ to continue living independent\, vibrant and connected lives in the places we call home. Volunteers of all ages welcome.\n\nWe are part of the national Village to Village movement with 250 Villages established since 2004.
X-ALT-DESC;FMTTYPE=text/html:<strong><span style="font-family:century gothic\,sans-serif"><span style="font-size:12.0pt">Get to Know the Village</span></span></strong><span style="font-family:century gothic\,sans-serif"><span style="font-size:12.0pt"> &ndash\; Informational Meeting for potential members and volunteers and anyone curious about our organization.</span></span><br />\n&nbsp\;<br />\n<span style="font-family:century gothic\,sans-serif"><span style="font-size:12.0pt">Every 3<sup>rd</sup> Thursday\, 10am &ndash\; 11:15am on Zoom &ndash\; April 21 is the next one!</span></span><br />\n&nbsp\;<br />\n<span style="color:#050E1B"><span style="font-family:century gothic\,sans-serif"><span style="font-size:12.0pt">If you&#39\;d like more fun and connection in your life\, learn how members aged 50+ and volunteers of all ages navigate the opportunities and transitions of aging.&nbsp\;Aging Better Together!</span></span></span><br />\n&nbsp\;<br />\n<span style="color:#050E1B"><span style="font-family:century gothic\,sans-serif"><span style="font-size:12.0pt">The Village Network of Petaluma is a trusted community of Petaluma and Penngrove residents mutually supporting each other. Our many interest groups bring us together to socialize\, exchange ideas\, and explore creativity. In addition to classes and events\, we give and receive support: rides\, errands\, technology help\, and minor home repairs. Many of our members are volunteers too!</span></span></span><br />\n&nbsp\;<br />\n<span style="color:#050E1B"><span style="font-family:century gothic\,sans-serif"><span style="font-size:12.0pt">With one phone call\, members can schedule weekly volunteer services\, access other community resources and receive member-recommended referrals. Associate memberships are also available for those interested in attending groups\, classes\, and events.</span></span></span><br />\n&nbsp\;<br />\n<span style="color:#050E1B"><span style="font-family:century gothic\,sans-serif"><span style="font-size:12.0pt">Please register in advance to receive the Zoom link or call-in phone number </span></span></span><br />\n<span style="font-family:century gothic\,sans-serif"><a href="https://www.villagenetworkofpetaluma.org/events"><span style="font-size:12.0pt">https://www.villagenetworkofpetaluma.org/events</span></a></span><br />\n<span style="color:#050E1B"><span style="font-family:century gothic\,sans-serif"><span style="font-size:12.0pt">By phone: 707 776-6055</span></span></span><br />\n<span style="color:#050E1B"><span style="font-family:century gothic\,sans-serif"><span style="font-size:12.0pt">By email: </span></span></span><span style="font-family:century gothic\,sans-serif"><a href="mailto:info@villagenetworkofpetaluma.org"><span style="font-size:12.0pt">info@villagenetworkofpetaluma.org</span></a></span><br />\n&nbsp\;<br />\n<strong><span style="font-family:century gothic\,sans-serif">MISSION</span></strong><br />\n<span style="font-family:century gothic\,sans-serif">The Village Network is a non-profit grassroots organization empowering Petaluma area residents age 50+ to continue living independent\, vibrant and connected lives in the places we call home. Volunteers of all ages welcome.</span><br />\n<span style="font-family:century gothic\,sans-serif">We are part of the national Village to Village movement with 250 Villages established since 2004.</span><br />\n&nbsp\;
LOCATION:
UID:e.1308.16541
SEQUENCE:3
DTSTAMP:20260421T141845Z
URL:https://business.petalumachamber.us/events/details/get-to-know-the-village-04-21-2022-16541
END:VEVENT

END:VCALENDAR
