BEGIN:VCALENDAR
VERSION:2.0
PRODID:-//ChamberMaster//Event Calendar 2.0//EN
METHOD:PUBLISH
X-PUBLISHED-TTL:P3D
REFRESH-INTERVAL:P3D
CALSCALE:GREGORIAN
BEGIN:VEVENT
DTSTART:20220820T160000Z
DTEND:20220820T190000Z
X-MICROSOFT-CDO-ALLDAYEVENT:FALSE
SUMMARY:Get Your Wellness On Family Friendly Walk In The Park
DESCRIPTION:Join your local wellness providers for a family friendly walk in the park at Schollenberger Park in Petaluma to kick off a Wellness Movement to inspire connection\, movement\, healthy eating and mindset in our community.\n\nOur team of wellness experts will meet you and share the many ways you and your family can get involved.\n\nYou will be provided with support to build connection\, increase resiliency\, and live a healthy life.\n\nWe will have water stations available to keep you hydrated.\n\nFeel free to bring your harvest bounty and wellness books to leave at the community share table.
X-ALT-DESC;FMTTYPE=text/html:<div>Join your local wellness providers for a family friendly walk in the park at Schollenberger Park in Petaluma to kick off a Wellness Movement to inspire connection\, movement\, healthy eating and mindset in our community.</div>\n\n<div>Our team of wellness experts will meet you and share the many ways you and your family can get involved.</div>\n\n<div>You will be provided with support to build connection\, increase resiliency\, and live a healthy life.</div>\n\n<div>We will have water stations available to keep you hydrated.</div>\n\n<div>Feel free to bring your harvest bounty and wellness books to leave at the community share table.</div>\n
LOCATION:Shollenberger Park 1400 Cader Ln\, Petaluma\, CA 94954
UID:e.1308.16556
SEQUENCE:3
DTSTAMP:20260421T085532Z
URL:https://business.petalumachamber.us/events/details/get-your-wellness-on-family-friendly-walk-in-the-park-16556
END:VEVENT

END:VCALENDAR
