BEGIN:VCALENDAR
VERSION:2.0
PRODID:-//ChamberMaster//Event Calendar 2.0//EN
METHOD:PUBLISH
X-PUBLISHED-TTL:P3D
REFRESH-INTERVAL:P3D
CALSCALE:GREGORIAN
BEGIN:VEVENT
DTSTART:20220820T160000Z
DTEND:20220820T190000Z
X-MICROSOFT-CDO-ALLDAYEVENT:FALSE
SUMMARY:Get Your Wellness On! Walk at Shollenberger Park
DESCRIPTION:Join us for a family friendly walk in the park at Shollenberger Park in Petaluma to kick off a Wellness Movement to inspire connection\, movement\, healthy eating and mindset in our community. Our team of wellness experts will meet you and share the many ways you and your family can elevate your wellness. You will be provided with support to build connection\, increase resiliency\, and live a healthy life. We will have water stations available to keep you hydrated. Feel free to bring your harvest bounty and wellness books to leave at the community share table.
X-ALT-DESC;FMTTYPE=text/html:Join us for a family friendly walk in the park at Shollenberger Park in Petaluma to kick off a Wellness Movement to inspire connection\, movement\, healthy eating and mindset in our community. Our team of wellness experts will meet you and share the many ways you and your family can elevate your wellness. You will be provided with support to build connection\, increase resiliency\, and live a healthy life. We will have water stations available to keep you hydrated. Feel free to bring your harvest bounty and wellness books to leave at the community share table.
LOCATION:Shollenberger Park 1400 Cader Ln. Petaluma
UID:e.1308.16562
SEQUENCE:3
DTSTAMP:20260421T085356Z
URL:https://business.petalumachamber.us/events/details/get-your-wellness-on-walk-at-shollenberger-park-16562
END:VEVENT

END:VCALENDAR
