BEGIN:VCALENDAR
VERSION:2.0
PRODID:-//ChamberMaster//Event Calendar 2.0//EN
METHOD:PUBLISH
X-PUBLISHED-TTL:P3D
REFRESH-INTERVAL:P3D
CALSCALE:GREGORIAN
BEGIN:VEVENT
DTSTART:20220901T010000Z
DTEND:20220901T014500Z
X-MICROSOFT-CDO-ALLDAYEVENT:FALSE
SUMMARY:Grocery Store Tour
DESCRIPTION:Grocery Store Tour Yolanda Mangum DDS & Wellness Coach www.petalumadental.com \, www.allumemedspa.com Time & Location Aug 31\, 6:00 PM Petaluma\, 1301 Southpoint Blvd\, Petaluma\, CA 94954\, USA at 6:45pm we will meet at a local grocery store About the event There are so many products to choose from at the store that it can be confusing to know what is actually healthy. Often times food is labeled as healthy when it actually is not making it even more confusing. Join us for a tour of the grocery store and learn what to look for on the labels to avoid making unhealthy choices\, receive meal planning tips\, and more. This is a free event. Cash donations are welcome and used to help market and spread the word of this wellness movement.
X-ALT-DESC;FMTTYPE=text/html:Grocery Store Tour Yolanda Mangum DDS &amp\; Wellness Coach www.petalumadental.com \, www.allumemedspa.com Time &amp\; Location Aug 31\, 6:00 PM Petaluma\, 1301 Southpoint Blvd\, Petaluma\, CA 94954\, USA at 6:45pm we will meet at a local grocery store About the event There are so many products to choose from at the store that it can be confusing to know what is actually healthy. Often times food is labeled as healthy when it actually is not making it even more confusing. Join us for a tour of the grocery store and learn what to look for on the labels to avoid making unhealthy choices\, receive meal planning tips\, and more. This is a free event. Cash donations are welcome and used to help market and spread the word of this wellness movement.
LOCATION:Luminary Education Center Petaluma\, 1301 Southpoint Blvd\, Petaluma\, CA 94954\, USA
UID:e.1308.16567
SEQUENCE:3
DTSTAMP:20260421T085302Z
URL:https://business.petalumachamber.us/events/details/grocery-store-tour-16567
END:VEVENT

END:VCALENDAR
