BEGIN:VCALENDAR
VERSION:2.0
PRODID:-//ChamberMaster//Event Calendar 2.0//EN
METHOD:PUBLISH
X-PUBLISHED-TTL:P3D
REFRESH-INTERVAL:P3D
CALSCALE:GREGORIAN
BEGIN:VEVENT
DTSTART:20221105T180000Z
DTEND:20221105T190000Z
X-MICROSOFT-CDO-ALLDAYEVENT:FALSE
SUMMARY:Harnessing Your Creativity to Spark Healing & Joy
DESCRIPTION:Harnessing Your Creativity to Spark Healing and Joy In this hands-on workshop you will: -Learn 3 simple steps to harness your creativity. -Experience exercises designed to uncover your intuitive creativity. -Learn tools for healing past traumas through creative practices. -Experience healing through creativity with creative arts play. Enjoy original inspirational songs and musical mantras led by Astra Fox. Bring a journal\, pen\, and an open heart. (No art experience necessary. ) Astra Fox is a Certified ACC Life and Spiritual Coach\, who helps her clients break through their blocks and develop the tools they need to discover and pursue their Joyful Purpose. To learn more about the presenter visit her website at www.joyfulpurposecoaching.com Doors open at 11am Presentation starts at 12pm This is a free event. Space is limited. RSVP at www.GYWOPetaluma.com/events-1 to reserve your spot.
X-ALT-DESC;FMTTYPE=text/html:Harnessing Your Creativity to Spark Healing and Joy In this hands-on workshop you will: -Learn 3 simple steps to harness your creativity. -Experience exercises designed to uncover your intuitive creativity. -Learn tools for healing past traumas through creative practices. -Experience healing through creativity with creative arts play. Enjoy original inspirational songs and musical mantras led by Astra Fox. Bring a journal\, pen\, and an open heart. (No art experience necessary. ) Astra Fox is a Certified ACC Life and Spiritual Coach\, who helps her clients break through their blocks and develop the tools they need to discover and pursue their Joyful Purpose. To learn more about the presenter visit her website at www.joyfulpurposecoaching.com Doors open at 11am Presentation starts at 12pm This is a free event. Space is limited. RSVP at www.GYWOPetaluma.com/events-1 to reserve your spot.
LOCATION:Luminary Education Center\, Petaluma\, 1301 Southpoint Blvd\, Petaluma\, CA 94954\, USA\, Petaluma\, CA\, Petaluma\, CA\, Petaluma\, CA
UID:e.1308.16571
SEQUENCE:3
DTSTAMP:20260421T042926Z
URL:https://business.petalumachamber.us/events/details/harnessing-your-creativity-to-spark-healing-joy-16571
END:VEVENT

END:VCALENDAR
