BEGIN:VCALENDAR
VERSION:2.0
PRODID:-//ChamberMaster//Event Calendar 2.0//EN
METHOD:PUBLISH
X-PUBLISHED-TTL:P3D
REFRESH-INTERVAL:P3D
CALSCALE:GREGORIAN
BEGIN:VEVENT
DTSTART:20220908T010000Z
DTEND:20220908T023000Z
X-MICROSOFT-CDO-ALLDAYEVENT:FALSE
SUMMARY:Holistic Stress Relief
DESCRIPTION:Holistic Stress Relief Mage & Maven www.mage&maven.com Sep 07\, 6:00 PM   7:30 PM Petaluma\, 1301 Southpoint Blvd\, Petaluma\, CA 94954\, USA About the event Do you experience stress? If you answered yes\, you are not alone. In fact\, nearly ? of doctor's visits are for stress related symptoms. Join Dr. Melissa Durfey DACM\, LE and Samuel Durfey BS\, CCE for a fun stress busting evening. In this interactive workshop you will learn where stress comes from and how you can best deal with it using both ancient holistic techniques and modern natural interventions. This is a free event. Cash donations for the presenter are welcome.
X-ALT-DESC;FMTTYPE=text/html:Holistic Stress Relief Mage &amp\; Maven www.mage&amp\;maven.com Sep 07\, 6:00 PM &ndash\; 7:30 PM Petaluma\, 1301 Southpoint Blvd\, Petaluma\, CA 94954\, USA About the event Do you experience stress? If you answered yes\, you are not alone. In fact\, nearly ? of doctor&rsquo\;s visits are for stress related symptoms. Join Dr. Melissa Durfey DACM\, LE and Samuel Durfey BS\, CCE for a fun stress busting evening. In this interactive workshop you will learn where stress comes from and how you can best deal with it using both ancient holistic techniques and modern natural interventions. This is a free event. Cash donations for the presenter are welcome.
LOCATION:Luminary Education Center\, Petaluma\, 1301 Southpoint Blvd\, Petaluma\, CA 94954\, USA\, Petaluma\, CA
UID:e.1308.16568
SEQUENCE:3
DTSTAMP:20260421T071946Z
URL:https://business.petalumachamber.us/events/details/holistic-stress-relief-16568
END:VEVENT

END:VCALENDAR
