BEGIN:VCALENDAR
VERSION:2.0
PRODID:-//ChamberMaster//Event Calendar 2.0//EN
METHOD:PUBLISH
X-PUBLISHED-TTL:P3D
REFRESH-INTERVAL:P3D
CALSCALE:GREGORIAN
BEGIN:VEVENT
DTSTART:20220922T230000Z
DTEND:20220923T010000Z
X-MICROSOFT-CDO-ALLDAYEVENT:FALSE
SUMMARY:Impact Marin
DESCRIPTION:Lorez Bailey\, publisher of the North Bay Business Journal\, hosts the latest North Bay Impact event on Sept. 22. Attendees of this free event can learn about the current media landscape in discussions with Bailey and Journal Editor Anthony Borders. Please join us and tell us what you would like to see in our Marin area business news coverage\, discuss market conditions and issues that affect your business\, and meet business peers in various industries. Space is limited and will be available on a first-come\, first-serve basis. Sept. 22\, 4-6 p.m. Embassy Suites\, San Rafael   Outdoor Terrace
X-ALT-DESC;FMTTYPE=text/html:Lorez Bailey\, publisher of the North Bay Business Journal\, hosts the latest North Bay Impact event on Sept. 22. Attendees of this free event can learn about the current media landscape in discussions with Bailey and Journal Editor Anthony Borders. Please join us and tell us what you would like to see in our Marin area business news coverage\, discuss market conditions and issues that affect your business\, and meet business peers in various industries. Space is limited and will be available on a first-come\, first-serve basis. Sept. 22\, 4-6 p.m. Embassy Suites\, San Rafael &ndash\; Outdoor Terrace
LOCATION:Embassy Suites\, San Rafael - Outdoor Terrace
UID:e.1308.16564
SEQUENCE:3
DTSTAMP:20260421T072637Z
URL:https://business.petalumachamber.us/events/details/impact-marin-16564
END:VEVENT

END:VCALENDAR
