BEGIN:VCALENDAR
VERSION:2.0
PRODID:-//ChamberMaster//Event Calendar 2.0//EN
METHOD:PUBLISH
X-PUBLISHED-TTL:P3D
REFRESH-INTERVAL:P3D
CALSCALE:GREGORIAN
BEGIN:VEVENT
DTSTART:20220726T164500Z
DTEND:20220726T190000Z
X-MICROSOFT-CDO-ALLDAYEVENT:FALSE
SUMMARY:Impact Sonoma Conference: Prepare your business for a public relations crisis before it happens
DESCRIPTION:Join us on July 26th at Friedman's Event Center to gain valuable insight from local thought leaders on preparing your business for a public relations crisis before it happens . Businesses without a plan may find themselves playing defense amid criticism instead of guiding the message and setting the tone. Learn from others what they wish they knew and what they know now about managing a crisis. From our Publisher\, Lorez Bailey: One of the greatest mistakes a business or organization can make is failing to plan. Knowing how to respond in the eye of the storm is challenging. Establishing protocols and plan for a crisis will allow your organization to react with a clear direction. Topic: Building the Capacity of your Business to be Prepared for a Crisis Presenting Speaker - Brian M. Sobel ____________________________________________________________________________________ Panel Topic: Lessons Learned Post Crisis Panelists: Kimberly Waite\, President Sonoma County Alliance Tiffani Montgomery\, Former National President Active 20-30 U.S. & Canada & CEO Tiffani Montgomery and Associates Ken Fuhr\, Communications Specialist at Clarity Media Group Conference Details: 9:45-10:30AM Check-In and Networking 10:30AM-12PM Program including presenting speaker and panelists
X-ALT-DESC;FMTTYPE=text/html:Join us on July 26th at Friedman&#39\;s Event Center to gain valuable insight from local thought leaders on preparing your business for a public relations crisis before it happens . Businesses without a plan may find themselves playing defense amid criticism instead of guiding the message and setting the tone. Learn from others what they wish they knew and what they know now about managing a crisis. From our Publisher\, Lorez Bailey: One of the greatest mistakes a business or organization can make is failing to plan. Knowing how to respond in the eye of the storm is challenging. Establishing protocols and plan for a crisis will allow your organization to react with a clear direction. Topic: Building the Capacity of your Business to be Prepared for a Crisis Presenting Speaker - Brian M. Sobel ____________________________________________________________________________________ Panel Topic: Lessons Learned Post Crisis Panelists: Kimberly Waite\, President Sonoma County Alliance Tiffani Montgomery\, Former National President Active 20-30 U.S. &amp\; Canada &amp\; CEO Tiffani Montgomery and Associates Ken Fuhr\, Communications Specialist at Clarity Media Group Conference Details: 9:45-10:30AM Check-In and Networking 10:30AM-12PM Program including presenting speaker and panelists
LOCATION:Friedman Events Center 4676 Mayette Avenue Santa Rosa\, CA 95405
UID:e.1308.16555
SEQUENCE:3
DTSTAMP:20260421T102645Z
URL:https://business.petalumachamber.us/events/details/impact-sonoma-conference-prepare-your-business-for-a-public-relations-crisis-before-it-happens-16555
END:VEVENT

END:VCALENDAR
