BEGIN:VCALENDAR
VERSION:2.0
PRODID:-//ChamberMaster//Event Calendar 2.0//EN
METHOD:PUBLISH
X-PUBLISHED-TTL:P3D
REFRESH-INTERVAL:P3D
CALSCALE:GREGORIAN
BEGIN:VEVENT
DTSTART;VALUE=DATE:20160704
DTEND;VALUE=DATE:20160705
TRANSP:TRANSPARENT
X-MICROSOFT-CDO-ALLDAYEVENT:TRUE
SUMMARY:Independence Day Holiday
DESCRIPTION:The Petaluma Area Chamber of Commerce office will be closed in observance of the Independence Day Holiday. We will resume normal business hours tomorrow  starting at 9:00am.
X-ALT-DESC;FMTTYPE=text/html:The Petaluma Area Chamber of Commerce office will be closed in observance of the Independence Day Holiday. We will resume normal business hours tomorrow&nbsp\; starting at 9:00am.
LOCATION:
UID:e.1308.7110
SEQUENCE:3
DTSTAMP:20260426T023427Z
URL:https://business.petalumachamber.us/events/details/independence-day-holiday-07-04-2016-7110
END:VEVENT

END:VCALENDAR
