BEGIN:VCALENDAR
VERSION:2.0
PRODID:-//ChamberMaster//Event Calendar 2.0//EN
METHOD:PUBLISH
X-PUBLISHED-TTL:P3D
REFRESH-INTERVAL:P3D
CALSCALE:GREGORIAN
BEGIN:VEVENT
DTSTART:20231026T233000Z
DTEND:20231027T020000Z
X-MICROSOFT-CDO-ALLDAYEVENT:FALSE
SUMMARY:Keller Street CoWork Open House Happy Hour
DESCRIPTION:Keller Street CoWork Hosting a Open House Happy Hour. Come by enjoy drinks and small bites.
X-ALT-DESC;FMTTYPE=text/html:Keller Street CoWork Hosting a Open House Happy Hour. Come by enjoy drinks and small bites.
LOCATION:140 Keller Street Petaluma\, Ca 94952
UID:e.1308.16850
SEQUENCE:3
DTSTAMP:20260420T123653Z
URL:https://business.petalumachamber.us/events/details/keller-street-cowork-open-house-happy-hour-16850
END:VEVENT

END:VCALENDAR
