BEGIN:VCALENDAR
VERSION:2.0
PRODID:-//ChamberMaster//Event Calendar 2.0//EN
METHOD:PUBLISH
X-PUBLISHED-TTL:P3D
REFRESH-INTERVAL:P3D
CALSCALE:GREGORIAN
BEGIN:VEVENT
DTSTART:20230510T003000Z
DTEND:20230510T020000Z
X-MICROSOFT-CDO-ALLDAYEVENT:FALSE
SUMMARY:LAG B'OMER COMMUNITY BBQ
DESCRIPTION:Let's celebrate Lag B'Omer together! Join us to celebrate the holiday of Lag B'Omer with a family-friendly BBQ\, kid's activities\, music\, and of course\, s'mores! Free with RSVP Tuesday\, May 9\, 5:30 pm   Address given upon RSVP Sponsorships are warmly appreciated.
X-ALT-DESC;FMTTYPE=text/html:Let&rsquo\;s celebrate Lag B&rsquo\;Omer together! Join us to celebrate the holiday of Lag B&#39\;Omer with a family-friendly BBQ\, kid&#39\;s activities\, music\, and of course\, s&#39\;mores! Free with RSVP Tuesday\, May 9\, 5:30 pm &bull\; Address given upon RSVP Sponsorships are warmly appreciated.
LOCATION:Chabad Jewish Center of Petaluma 205 Keller Street #101 Petaluma\, CA 94952
UID:e.1308.16622
SEQUENCE:3
DTSTAMP:20260420T194428Z
URL:https://business.petalumachamber.us/events/details/lag-b-omer-community-bbq-16622
END:VEVENT

END:VCALENDAR
