BEGIN:VCALENDAR
VERSION:2.0
PRODID:-//ChamberMaster//Event Calendar 2.0//EN
METHOD:PUBLISH
X-PUBLISHED-TTL:P3D
REFRESH-INTERVAL:P3D
CALSCALE:GREGORIAN
BEGIN:VEVENT
DTSTART:20250909T160000Z
DTEND:20250917T000000Z
X-MICROSOFT-CDO-ALLDAYEVENT:FALSE
SUMMARY:Level 2 Wine Course - WSET Certification
DESCRIPTION:What you'll learn: How to taste and describe wine using the WSET Level 2 Systematic Approach to Tasting Wine (SAT) How environmental factors\, grape-growing\, winemaking and maturation options influence the style and quality of wines made from eight principal grape varieties: Chardonnay Pinot Grigio/Gris Sauvignon Blanc Riesling Cabernet Sauvignon Merlot Pinot Noir Syrah/Shiraz The style and quality of wines made from 22 regionally important grape varieties produced in over 70 geographical indications (GIs) around the world How grape varieties and winemaking processes influence key styles of: Sparkling wines Fortified wines Key labelling terms used to indicate origin\, style and quality Principles and processes involved in the storage and service of wine Principles of food and wine pairing Course format 16 hours of guided learning with a WSET course provider culminating in a one hour examination.
X-ALT-DESC;FMTTYPE=text/html:What you&rsquo\;ll learn: How to taste and describe wine using the WSET Level 2 Systematic Approach to Tasting Wine&reg\;(SAT) How environmental factors\, grape-growing\, winemaking and maturation options influence the style and quality of wines made from eight principal grape varieties: Chardonnay Pinot Grigio/Gris Sauvignon Blanc Riesling Cabernet Sauvignon Merlot Pinot Noir Syrah/Shiraz The style and quality of wines made from 22 regionally important grape varieties produced in over 70 geographical indications (GIs) around the world How grape varieties and winemaking processes influence key styles of: Sparkling wines Fortified wines Key labelling terms used to indicate origin\, style and quality Principles and processes involved in the storage and service of wine Principles of food and wine pairing Course format 16 hours of guided learning with a WSET course provider culminating in a one hour examination.
LOCATION:Avinage Wine Shop - 15 Petaluma Blvd
UID:e.1308.17488
SEQUENCE:3
DTSTAMP:20260419T133239Z
URL:https://business.petalumachamber.us/events/details/level-2-wine-course-wset-certification-17488
END:VEVENT

END:VCALENDAR
