BEGIN:VCALENDAR
VERSION:2.0
PRODID:-//ChamberMaster//Event Calendar 2.0//EN
METHOD:PUBLISH
X-PUBLISHED-TTL:P3D
REFRESH-INTERVAL:P3D
CALSCALE:GREGORIAN
BEGIN:VEVENT
DTSTART:20231203T020000Z
DTEND:20231203T030000Z
X-MICROSOFT-CDO-ALLDAYEVENT:FALSE
SUMMARY:Lighted Boat Parade
DESCRIPTION:Holiday Fun on the Petaluma River! Join us at the Petaluma Basin and enjoy the Lighted Boat parade hosted by the Petaluma Yacht Club. Watch the beautiful boats make there way down the Petaluma River ushering in the holiday season! Vessels of all sizes- power\, sail\, and man-powered are welcomed to join in the Petaluma Yacht Club's flotilla. Several thousand citizens line the shore to take in the spectacle. Saturday\, December 9\, 6p-7p Petaluma Turning Basin\, 12 C St Free to attend\, no reservation
X-ALT-DESC;FMTTYPE=text/html:Holiday Fun on the Petaluma River! Join us at the Petaluma Basin and enjoy the Lighted Boat parade hosted by the Petaluma Yacht Club. Watch the beautiful boats make there way down the Petaluma River ushering in the holiday season! Vessels of all sizes- power\, sail\, and man-powered are welcomed to join in the Petaluma Yacht Club&rsquo\;s flotilla. Several thousand citizens line the shore to take in the spectacle. Saturday\, December 9\, 6p-7p Petaluma Turning Basin\, 12 C St Free to attend\, no reservation
LOCATION:Petaluma Turning Basin
UID:e.1308.16858
SEQUENCE:3
DTSTAMP:20260420T100615Z
URL:https://business.petalumachamber.us/events/details/lighted-boat-parade-12-02-2023-16858
END:VEVENT

END:VCALENDAR
